BEGIN:VCALENDAR
VERSION:2.0
PRODID:-//The Challenge Coach - ECPv6.15.20//NONSGML v1.0//EN
CALSCALE:GREGORIAN
METHOD:PUBLISH
X-ORIGINAL-URL:https://thechallengecoach.com
X-WR-CALDESC:Events for The Challenge Coach
REFRESH-INTERVAL;VALUE=DURATION:PT1H
X-Robots-Tag:noindex
X-PUBLISHED-TTL:PT1H
BEGIN:VTIMEZONE
TZID:America/New_York
BEGIN:DAYLIGHT
TZOFFSETFROM:-0500
TZOFFSETTO:-0400
TZNAME:EDT
DTSTART:20250309T070000
END:DAYLIGHT
BEGIN:STANDARD
TZOFFSETFROM:-0400
TZOFFSETTO:-0500
TZNAME:EST
DTSTART:20251102T060000
END:STANDARD
BEGIN:DAYLIGHT
TZOFFSETFROM:-0500
TZOFFSETTO:-0400
TZNAME:EDT
DTSTART:20260308T070000
END:DAYLIGHT
BEGIN:STANDARD
TZOFFSETFROM:-0400
TZOFFSETTO:-0500
TZNAME:EST
DTSTART:20261101T060000
END:STANDARD
BEGIN:DAYLIGHT
TZOFFSETFROM:-0500
TZOFFSETTO:-0400
TZNAME:EDT
DTSTART:20270314T070000
END:DAYLIGHT
BEGIN:STANDARD
TZOFFSETFROM:-0400
TZOFFSETTO:-0500
TZNAME:EST
DTSTART:20271107T060000
END:STANDARD
END:VTIMEZONE
BEGIN:VEVENT
DTSTART;TZID=America/New_York:20260402T164500
DTEND;TZID=America/New_York:20260402T193000
DTSTAMP:20260423T222900
CREATED:20260323T000309Z
LAST-MODIFIED:20260323T000628Z
UID:10000576-1775148300-1775158200@thechallengecoach.com
SUMMARY:Working the Room (and the Algorithm): Networking\, Visibility\, and Careers in International Law
DESCRIPTION:The Washington Foreign Law Society\, \nin collaboration with Georgetown University Law Center and American University Washington College of Law\, \nhas the pleasure to invite you to the following event: \nWorking the Room (and the Algorithm): Networking\, Visibility\, and Careers in International Law \nThursday\, 2 April 2026\nFrom 5:45 to 8:30 PM ET (including reception) \nLocation: K&L Gates LLP\, 1601 K St NW # 1\, Washington\, DC 20006 \nPlease register below. \nWorking the Room (and the Algorithm): Networking\, Visibility\, and Careers in International Law — Washington Foreign Law Society \nIf you are not yet a member of the WFLS\, please join here. \nPanelists: \nMallory Silberman\, MS Arbitration \nPascale Brady\, CPCC\, PCC\, MBA\, founder and President of Global Life Coaching LLC\, is The Challenge Coach \nInés Sosa\, World Bank Group \nJuliana Nándar\, Senior Counsel\, Legal Vice Presidency\, World Bank Group \nModerator: Alexandra Bochnakova\, President of the Washington Foreign Law Society
URL:https://thechallengecoach.com/event/working-the-room-and-the-algorithm-networking-visibility-and-careers-in-international-law
LOCATION:K&L Gates LLP\, 1601 K St NW # 1\, Washington D.C.\, DC\, 20006\, United States
ATTACH;FMTTYPE=image/png:https://thechallengecoach.com/wp-content/uploads/2026/03/485986a4-ab6c-46a0-a37a-62f39614e8aa.png
END:VEVENT
END:VCALENDAR