BEGIN:VCALENDAR
VERSION:2.0
PRODID:-//The Challenge Coach - ECPv6.15.20//NONSGML v1.0//EN
CALSCALE:GREGORIAN
METHOD:PUBLISH
X-WR-CALNAME:The Challenge Coach
X-ORIGINAL-URL:https://thechallengecoach.com
X-WR-CALDESC:Events for The Challenge Coach
REFRESH-INTERVAL;VALUE=DURATION:PT1H
X-Robots-Tag:noindex
X-PUBLISHED-TTL:PT1H
BEGIN:VTIMEZONE
TZID:America/New_York
BEGIN:DAYLIGHT
TZOFFSETFROM:-0500
TZOFFSETTO:-0400
TZNAME:EDT
DTSTART:20200308T070000
END:DAYLIGHT
BEGIN:STANDARD
TZOFFSETFROM:-0400
TZOFFSETTO:-0500
TZNAME:EST
DTSTART:20201101T060000
END:STANDARD
BEGIN:DAYLIGHT
TZOFFSETFROM:-0500
TZOFFSETTO:-0400
TZNAME:EDT
DTSTART:20210314T070000
END:DAYLIGHT
BEGIN:STANDARD
TZOFFSETFROM:-0400
TZOFFSETTO:-0500
TZNAME:EST
DTSTART:20211107T060000
END:STANDARD
BEGIN:DAYLIGHT
TZOFFSETFROM:-0500
TZOFFSETTO:-0400
TZNAME:EDT
DTSTART:20220313T070000
END:DAYLIGHT
BEGIN:STANDARD
TZOFFSETFROM:-0400
TZOFFSETTO:-0500
TZNAME:EST
DTSTART:20221106T060000
END:STANDARD
BEGIN:DAYLIGHT
TZOFFSETFROM:-0500
TZOFFSETTO:-0400
TZNAME:EDT
DTSTART:20230312T070000
END:DAYLIGHT
BEGIN:STANDARD
TZOFFSETFROM:-0400
TZOFFSETTO:-0500
TZNAME:EST
DTSTART:20231105T060000
END:STANDARD
BEGIN:DAYLIGHT
TZOFFSETFROM:-0500
TZOFFSETTO:-0400
TZNAME:EDT
DTSTART:20240310T070000
END:DAYLIGHT
BEGIN:STANDARD
TZOFFSETFROM:-0400
TZOFFSETTO:-0500
TZNAME:EST
DTSTART:20241103T060000
END:STANDARD
END:VTIMEZONE
BEGIN:VEVENT
DTSTART;TZID=America/New_York:20230505T130000
DTEND;TZID=America/New_York:20230505T140000
DTSTAMP:20260423T193048
CREATED:20230227T161522Z
LAST-MODIFIED:20230306T185300Z
UID:10000266-1683291600-1683295200@thechallengecoach.com
SUMMARY:L’enCOEURagement Pourquoi\, Comment\, Et à quoi ça sert?
DESCRIPTION:
URL:https://thechallengecoach.com/event/lencoeuragement-pourquoi-comment-et-a-quoi-ca-sert
LOCATION:Zoom Online
ATTACH;FMTTYPE=image/jpeg:https://thechallengecoach.com/wp-content/uploads/2023/02/The-Challenge-Coach-logo-RGB-small.jpg
END:VEVENT
BEGIN:VEVENT
DTSTART;TZID=America/New_York:20230428T130000
DTEND;TZID=America/New_York:20230428T140000
DTSTAMP:20260423T193048
CREATED:20230227T162201Z
LAST-MODIFIED:20230306T185222Z
UID:10000269-1682686800-1682690400@thechallengecoach.com
SUMMARY:L’enCOEURagement Pourquoi\, Comment\, Et à quoi ça sert?
DESCRIPTION:
URL:https://thechallengecoach.com/event/lencoeuragement-pourquoi-comment-et-a-quoi-ca-sert-4
LOCATION:Zoom Online
ATTACH;FMTTYPE=image/jpeg:https://thechallengecoach.com/wp-content/uploads/2023/02/The-Challenge-Coach-logo-RGB-small.jpg
END:VEVENT
BEGIN:VEVENT
DTSTART;TZID=America/New_York:20230426T200000
DTEND;TZID=America/New_York:20230426T210000
DTSTAMP:20260423T193048
CREATED:20230227T171623Z
LAST-MODIFIED:20230227T171623Z
UID:10000273-1682539200-1682542800@thechallengecoach.com
SUMMARY:Free Positive Intelligence Webinar
DESCRIPTION:
URL:https://thechallengecoach.com/event/free-positive-intelligence-webinar-2
LOCATION:Zoom Online
ATTACH;FMTTYPE=image/jpeg:https://thechallengecoach.com/wp-content/uploads/2023/02/The-Challenge-Coach-logo-RGB-small.jpg
END:VEVENT
BEGIN:VEVENT
DTSTART;TZID=America/New_York:20230421T130000
DTEND;TZID=America/New_York:20230421T140000
DTSTAMP:20260423T193048
CREATED:20230227T161926Z
LAST-MODIFIED:20230306T185152Z
UID:10000268-1682082000-1682085600@thechallengecoach.com
SUMMARY:L’enCOEURagement Pourquoi\, Comment\, Et à quoi ça sert?
DESCRIPTION:
URL:https://thechallengecoach.com/event/lencoeuragement-pourquoi-comment-et-a-quoi-ca-sert-3
LOCATION:Zoom Online
ATTACH;FMTTYPE=image/jpeg:https://thechallengecoach.com/wp-content/uploads/2023/02/The-Challenge-Coach-logo-RGB-small.jpg
END:VEVENT
BEGIN:VEVENT
DTSTART;TZID=America/New_York:20230418T130000
DTEND;TZID=America/New_York:20230418T140000
DTSTAMP:20260423T193048
CREATED:20230227T171451Z
LAST-MODIFIED:20230227T171735Z
UID:10000272-1681822800-1681826400@thechallengecoach.com
SUMMARY:Free Positive Intelligence Webinar
DESCRIPTION:
URL:https://thechallengecoach.com/event/free-positive-intelligence-webinar
LOCATION:Zoom Online
ATTACH;FMTTYPE=image/jpeg:https://thechallengecoach.com/wp-content/uploads/2023/02/The-Challenge-Coach-logo-RGB-small.jpg
END:VEVENT
BEGIN:VEVENT
DTSTART;TZID=America/New_York:20230414T130000
DTEND;TZID=America/New_York:20230414T140000
DTSTAMP:20260423T193048
CREATED:20230227T161747Z
LAST-MODIFIED:20230306T185121Z
UID:10000267-1681477200-1681480800@thechallengecoach.com
SUMMARY:L’enCOEURagement Pourquoi\, Comment\, Et à quoi ça sert?
DESCRIPTION:
URL:https://thechallengecoach.com/event/lencoeuragement-pourquoi-comment-et-a-quoi-ca-sert-2
LOCATION:Zoom Online
ATTACH;FMTTYPE=image/jpeg:https://thechallengecoach.com/wp-content/uploads/2023/02/The-Challenge-Coach-logo-RGB-small.jpg
END:VEVENT
BEGIN:VEVENT
DTSTART;TZID=America/New_York:20230217T120000
DTEND;TZID=America/New_York:20230217T130000
DTSTAMP:20260423T193048
CREATED:20221212T171637Z
LAST-MODIFIED:20221212T171637Z
UID:10000261-1676635200-1676638800@thechallengecoach.com
SUMMARY:WOOP – A Four Week Group Coaching Program
DESCRIPTION:
URL:https://thechallengecoach.com/event/woop-a-four-week-group-coaching-program-5
LOCATION:Zoom Online
ATTACH;FMTTYPE=image/png:https://thechallengecoach.com/wp-content/uploads/2020/11/The-Challenge-Coach-logo-RGB.png
END:VEVENT
BEGIN:VEVENT
DTSTART;TZID=America/New_York:20230210T120000
DTEND;TZID=America/New_York:20230210T130000
DTSTAMP:20260423T193048
CREATED:20221012T145029Z
LAST-MODIFIED:20221012T152525Z
UID:10000260-1676030400-1676034000@thechallengecoach.com
SUMMARY:WOOP – A Four Week Group Coaching Program
DESCRIPTION:
URL:https://thechallengecoach.com/event/woop-a-four-week-group-coaching-program-4
LOCATION:Zoom Online
ATTACH;FMTTYPE=image/png:https://thechallengecoach.com/wp-content/uploads/2020/11/The-Challenge-Coach-logo-RGB.png
END:VEVENT
BEGIN:VEVENT
DTSTART;TZID=America/New_York:20230203T120000
DTEND;TZID=America/New_York:20230203T130000
DTSTAMP:20260423T193048
CREATED:20221012T144757Z
LAST-MODIFIED:20221012T144757Z
UID:10000259-1675425600-1675429200@thechallengecoach.com
SUMMARY:WOOP – A Four Week Group Coaching Program
DESCRIPTION:
URL:https://thechallengecoach.com/event/woop-a-four-week-group-coaching-program-3
LOCATION:Zoom Online
ATTACH;FMTTYPE=image/png:https://thechallengecoach.com/wp-content/uploads/2020/11/The-Challenge-Coach-logo-RGB.png
END:VEVENT
BEGIN:VEVENT
DTSTART;TZID=America/New_York:20230127T120000
DTEND;TZID=America/New_York:20230127T130000
DTSTAMP:20260423T193048
CREATED:20221012T144456Z
LAST-MODIFIED:20221012T144456Z
UID:10000258-1674820800-1674824400@thechallengecoach.com
SUMMARY:WOOP – A Four Week Group Coaching Program
DESCRIPTION:
URL:https://thechallengecoach.com/event/woop-a-four-week-group-coaching-program-2
LOCATION:Zoom Online
ATTACH;FMTTYPE=image/png:https://thechallengecoach.com/wp-content/uploads/2020/11/The-Challenge-Coach-logo-RGB.png
END:VEVENT
BEGIN:VEVENT
DTSTART;TZID=America/New_York:20230120T120000
DTEND;TZID=America/New_York:20230120T130000
DTSTAMP:20260423T193048
CREATED:20221012T144240Z
LAST-MODIFIED:20221212T171221Z
UID:10000257-1674216000-1674219600@thechallengecoach.com
SUMMARY:2023: New Year\, New You! FREE Virtual Workshop
DESCRIPTION:
URL:https://thechallengecoach.com/event/woop-a-four-week-group-coaching-program
LOCATION:Zoom Online
ATTACH;FMTTYPE=image/png:https://thechallengecoach.com/wp-content/uploads/2020/11/The-Challenge-Coach-logo-RGB.png
END:VEVENT
BEGIN:VEVENT
DTSTART;TZID=America/New_York:20221104T120000
DTEND;TZID=America/New_York:20221104T130000
DTSTAMP:20260423T193048
CREATED:20220928T102257Z
LAST-MODIFIED:20220928T102257Z
UID:10000254-1667563200-1667566800@thechallengecoach.com
SUMMARY:enCOURAGEment – A Four Week Group Coaching Program
DESCRIPTION:
URL:https://thechallengecoach.com/event/encouragement-a-four-week-group-coaching-program-3
LOCATION:Zoom Online
ATTACH;FMTTYPE=image/png:https://thechallengecoach.com/wp-content/uploads/2020/11/The-Challenge-Coach-logo-RGB.png
END:VEVENT
BEGIN:VEVENT
DTSTART;TZID=America/New_York:20221021T120000
DTEND;TZID=America/New_York:20221021T130000
DTSTAMP:20260423T193048
CREATED:20220928T101602Z
LAST-MODIFIED:20220928T103606Z
UID:10000252-1666353600-1666357200@thechallengecoach.com
SUMMARY:enCOURAGEment - A Four Week Group Coaching Program
DESCRIPTION:
URL:https://thechallengecoach.com/event/encouragement-a-four-week-group-coaching-program
LOCATION:Zoom Online
ATTACH;FMTTYPE=image/png:https://thechallengecoach.com/wp-content/uploads/2020/11/The-Challenge-Coach-logo-RGB.png
END:VEVENT
BEGIN:VEVENT
DTSTART;TZID=America/New_York:20220302T120000
DTEND;TZID=America/New_York:20220302T130000
DTSTAMP:20260423T193048
CREATED:20220125T133135Z
LAST-MODIFIED:20220125T164437Z
UID:10000249-1646222400-1646226000@thechallengecoach.com
SUMMARY:WOOP - A FOUR WEEK COACHING PROGRAM
DESCRIPTION:
URL:https://thechallengecoach.com/event/woop-a-four-week-coaching-program-4
LOCATION:Zoom Online
ATTACH;FMTTYPE=image/png:https://thechallengecoach.com/wp-content/uploads/2020/11/cropped-The-Challenge-Coach-logo-RGB-small.png
END:VEVENT
BEGIN:VEVENT
DTSTART;TZID=America/New_York:20220223T120000
DTEND;TZID=America/New_York:20220223T130000
DTSTAMP:20260423T193048
CREATED:20220125T133022Z
LAST-MODIFIED:20220125T164501Z
UID:10000248-1645617600-1645621200@thechallengecoach.com
SUMMARY:WOOP - A FOUR WEEK COACHING PROGRAM
DESCRIPTION:
URL:https://thechallengecoach.com/event/woop-a-four-week-coaching-program-3
LOCATION:Zoom Online
ATTACH;FMTTYPE=image/png:https://thechallengecoach.com/wp-content/uploads/2020/11/cropped-The-Challenge-Coach-logo-RGB-small.png
END:VEVENT
BEGIN:VEVENT
DTSTART;TZID=America/New_York:20220216T120000
DTEND;TZID=America/New_York:20220216T130000
DTSTAMP:20260423T193048
CREATED:20220125T132914Z
LAST-MODIFIED:20220125T164536Z
UID:10000247-1645012800-1645016400@thechallengecoach.com
SUMMARY:WOOP - A FOUR WEEK COACHING PROGRAM
DESCRIPTION:
URL:https://thechallengecoach.com/event/woop-a-four-week-coaching-program-2
LOCATION:Zoom Online
ATTACH;FMTTYPE=image/png:https://thechallengecoach.com/wp-content/uploads/2020/11/cropped-The-Challenge-Coach-logo-RGB-small.png
END:VEVENT
BEGIN:VEVENT
DTSTART;TZID=America/New_York:20220209T120000
DTEND;TZID=America/New_York:20220209T130000
DTSTAMP:20260423T193048
CREATED:20220125T132710Z
LAST-MODIFIED:20220125T164557Z
UID:10000246-1644408000-1644411600@thechallengecoach.com
SUMMARY:WOOP - A FOUR WEEK COACHING PROGRAM
DESCRIPTION:
URL:https://thechallengecoach.com/event/woop-a-four-week-coaching-program
LOCATION:Zoom Online
ATTACH;FMTTYPE=image/png:https://thechallengecoach.com/wp-content/uploads/2020/11/The-Challenge-Coach-logo-RGB.png
END:VEVENT
BEGIN:VEVENT
DTSTART;TZID=America/New_York:20220126T120000
DTEND;TZID=America/New_York:20220126T130000
DTSTAMP:20260423T193048
CREATED:20220113T140954Z
LAST-MODIFIED:20220113T141128Z
UID:10000244-1643198400-1643202000@thechallengecoach.com
SUMMARY:New Year\, New YOU!
DESCRIPTION:
URL:https://thechallengecoach.com/event/new-year-new-you
LOCATION:Zoom Online
ATTACH;FMTTYPE=image/png:https://thechallengecoach.com/wp-content/uploads/2020/11/The-Challenge-Coach-logo-RGB-small.png
END:VEVENT
BEGIN:VEVENT
DTSTART;TZID=America/New_York:20210505T120000
DTEND;TZID=America/New_York:20210505T130000
DTSTAMP:20260423T193048
CREATED:20210428T102618Z
LAST-MODIFIED:20210428T103612Z
UID:10000170-1620216000-1620219600@thechallengecoach.com
SUMMARY:PQ Program FREE Launch Webinar
DESCRIPTION:Do you want to learn how to THRIVE in life? \nJoin a gym for your brain! \nPositive Intelligence is the science and practice of developing mastery over your own mind so you can reach your full potential for both happiness and success. \nJoin this ***FREE*** webinar to learn more about this fascinating new method of re-programming and strengthening your brain to become a better\, stronger\, happier you. \nView full details \nREGISTER NOW!
URL:https://thechallengecoach.com/event/pq-program-free-launch-webinar-3
LOCATION:Zoom Online
ATTACH;FMTTYPE=image/jpeg:https://thechallengecoach.com/wp-content/uploads/2021/03/unnamed.jpg
END:VEVENT
BEGIN:VEVENT
DTSTART;TZID=America/New_York:20210429T200000
DTEND;TZID=America/New_York:20210429T200000
DTSTAMP:20260423T193048
CREATED:20210428T105654Z
LAST-MODIFIED:20210428T125052Z
UID:10000171-1619726400-1619726400@thechallengecoach.com
SUMMARY:Joue Ta Vie IKIGAI Group Coaching (French)
DESCRIPTION:
URL:https://thechallengecoach.com/event/joue-ta-vie-ikigai-group-coaching-french
LOCATION:Zoom Online
ATTACH;FMTTYPE=image/png:https://thechallengecoach.com/wp-content/uploads/2020/11/1cropped-cropped-LOGO-CMJN-5.png
END:VEVENT
BEGIN:VEVENT
DTSTART;TZID=America/New_York:20210421T120000
DTEND;TZID=America/New_York:20210421T130000
DTSTAMP:20260423T193048
CREATED:20210324T200726Z
LAST-MODIFIED:20210417T012731Z
UID:10000169-1619006400-1619010000@thechallengecoach.com
SUMMARY:PQ Program FREE Launch Webinar
DESCRIPTION:Do you want to learn how to THRIVE in life? \nJoin a gym for your brain! \nPositive Intelligence is the science and practice of developing mastery over your own mind so you can reach your full potential for both happiness and success. \nJoin this ***FREE*** webinar next week to learn more about this fascinating new method of re-programming and strengthening your brain to become a better\, stronger\, happier you. \nView full details \nREGISTER NOW!
URL:https://thechallengecoach.com/event/pq-program-free-launch-webinar-2
LOCATION:Zoom Online
ATTACH;FMTTYPE=image/jpeg:https://thechallengecoach.com/wp-content/uploads/2021/03/unnamed.jpg
END:VEVENT
BEGIN:VEVENT
DTSTART;TZID=America/New_York:20210420T200000
DTEND;TZID=America/New_York:20210420T210000
DTSTAMP:20260423T193048
CREATED:20210324T200559Z
LAST-MODIFIED:20210417T012724Z
UID:10000168-1618948800-1618952400@thechallengecoach.com
SUMMARY:PQ Program FREE Launch Webinar
DESCRIPTION:Do you want to learn how to THRIVE in life? \nJoin a gym for your brain! \nPositive Intelligence is the science and practice of developing mastery over your own mind so you can reach your full potential for both happiness and success. \nJoin this ***FREE*** webinar next week to learn more about this fascinating new method of re-programming and strengthening your brain to become a better\, stronger\, happier you. \nView full details \nREGISTER NOW!
URL:https://thechallengecoach.com/event/pq-program-free-launch-webinar
LOCATION:Zoom Online
ATTACH;FMTTYPE=image/jpeg:https://thechallengecoach.com/wp-content/uploads/2021/03/unnamed.jpg
END:VEVENT
END:VCALENDAR