BEGIN:VCALENDAR
VERSION:2.0
PRODID:-//The Challenge Coach - ECPv6.15.20//NONSGML v1.0//EN
CALSCALE:GREGORIAN
METHOD:PUBLISH
X-ORIGINAL-URL:https://thechallengecoach.com
X-WR-CALDESC:Events for The Challenge Coach
REFRESH-INTERVAL;VALUE=DURATION:PT1H
X-Robots-Tag:noindex
X-PUBLISHED-TTL:PT1H
BEGIN:VTIMEZONE
TZID:America/New_York
BEGIN:DAYLIGHT
TZOFFSETFROM:-0500
TZOFFSETTO:-0400
TZNAME:EDT
DTSTART:20190310T070000
END:DAYLIGHT
BEGIN:STANDARD
TZOFFSETFROM:-0400
TZOFFSETTO:-0500
TZNAME:EST
DTSTART:20191103T060000
END:STANDARD
BEGIN:DAYLIGHT
TZOFFSETFROM:-0500
TZOFFSETTO:-0400
TZNAME:EDT
DTSTART:20200308T070000
END:DAYLIGHT
BEGIN:STANDARD
TZOFFSETFROM:-0400
TZOFFSETTO:-0500
TZNAME:EST
DTSTART:20201101T060000
END:STANDARD
BEGIN:DAYLIGHT
TZOFFSETFROM:-0500
TZOFFSETTO:-0400
TZNAME:EDT
DTSTART:20210314T070000
END:DAYLIGHT
BEGIN:STANDARD
TZOFFSETFROM:-0400
TZOFFSETTO:-0500
TZNAME:EST
DTSTART:20211107T060000
END:STANDARD
BEGIN:DAYLIGHT
TZOFFSETFROM:-0500
TZOFFSETTO:-0400
TZNAME:EDT
DTSTART:20220313T070000
END:DAYLIGHT
BEGIN:STANDARD
TZOFFSETFROM:-0400
TZOFFSETTO:-0500
TZNAME:EST
DTSTART:20221106T060000
END:STANDARD
BEGIN:DAYLIGHT
TZOFFSETFROM:-0500
TZOFFSETTO:-0400
TZNAME:EDT
DTSTART:20230312T070000
END:DAYLIGHT
BEGIN:STANDARD
TZOFFSETFROM:-0400
TZOFFSETTO:-0500
TZNAME:EST
DTSTART:20231105T060000
END:STANDARD
BEGIN:DAYLIGHT
TZOFFSETFROM:-0500
TZOFFSETTO:-0400
TZNAME:EDT
DTSTART:20240310T070000
END:DAYLIGHT
BEGIN:STANDARD
TZOFFSETFROM:-0400
TZOFFSETTO:-0500
TZNAME:EST
DTSTART:20241103T060000
END:STANDARD
END:VTIMEZONE
BEGIN:VEVENT
DTSTART;VALUE=DATE:20230228
DTEND;VALUE=DATE:20230301
DTSTAMP:20260424T004858
CREATED:20230227T155139Z
LAST-MODIFIED:20230227T155515Z
UID:10000263-1677542400-1677628799@thechallengecoach.com
SUMMARY:Parenting for Expatriation: Power Struggles
DESCRIPTION:
URL:https://thechallengecoach.com/event/parenting-for-expatriation-power-struggles
LOCATION:PRIVATE
ATTACH;FMTTYPE=image/jpeg:https://thechallengecoach.com/wp-content/uploads/2020/09/ABOUT-netexpat-logo.jpg
END:VEVENT
BEGIN:VEVENT
DTSTART;TZID=America/New_York:20211005T100000
DTEND;TZID=America/New_York:20211005T140000
DTSTAMP:20260424T004858
CREATED:20210927T134949Z
LAST-MODIFIED:20210927T134949Z
UID:10000228-1633428000-1633442400@thechallengecoach.com
SUMMARY:Intercultural Training
DESCRIPTION:
URL:https://thechallengecoach.com/event/intercultural-training-5
ATTACH;FMTTYPE=image/png:https://thechallengecoach.com/wp-content/uploads/2020/10/netexpat-logo.png
END:VEVENT
BEGIN:VEVENT
DTSTART;TZID=America/New_York:20210914T100000
DTEND;TZID=America/New_York:20210914T140000
DTSTAMP:20260424T004858
CREATED:20210927T134242Z
LAST-MODIFIED:20210927T134242Z
UID:10000180-1631613600-1631628000@thechallengecoach.com
SUMMARY:Intercultural Training
DESCRIPTION:
URL:https://thechallengecoach.com/event/intercultural-training-4
ATTACH;FMTTYPE=image/jpeg:https://thechallengecoach.com/wp-content/uploads/2020/09/ABOUT-netexpat-logo.jpg
END:VEVENT
BEGIN:VEVENT
DTSTART;TZID=America/New_York:20210525T110000
DTEND;TZID=America/New_York:20210525T120000
DTSTAMP:20260424T004858
CREATED:20210211T145537Z
LAST-MODIFIED:20210211T145537Z
UID:10000212-1621940400-1621944000@thechallengecoach.com
SUMMARY:Moving Again
DESCRIPTION:
URL:https://thechallengecoach.com/event/moving-again
LOCATION:Zoom Online
ATTACH;FMTTYPE=image/png:https://thechallengecoach.com/wp-content/uploads/2020/10/netexpat-logo.png
END:VEVENT
BEGIN:VEVENT
DTSTART;TZID=America/New_York:20210330T100000
DTEND;TZID=America/New_York:20210330T140000
DTSTAMP:20260424T004858
CREATED:20210211T142527Z
LAST-MODIFIED:20210211T142527Z
UID:10000205-1617098400-1617112800@thechallengecoach.com
SUMMARY:Intercultural Training
DESCRIPTION:
URL:https://thechallengecoach.com/event/intercultural-training-3
LOCATION:Zoom Online
ATTACH;FMTTYPE=image/png:https://thechallengecoach.com/wp-content/uploads/2020/10/netexpat-logo.png
END:VEVENT
BEGIN:VEVENT
DTSTART;TZID=America/New_York:20210323T100000
DTEND;TZID=America/New_York:20210323T140000
DTSTAMP:20260424T004858
CREATED:20210211T142430Z
LAST-MODIFIED:20210211T142430Z
UID:10000204-1616493600-1616508000@thechallengecoach.com
SUMMARY:Intercultural Training
DESCRIPTION:
URL:https://thechallengecoach.com/event/intercultural-training-2
LOCATION:Zoom Online
ATTACH;FMTTYPE=image/png:https://thechallengecoach.com/wp-content/uploads/2020/10/netexpat-logo.png
END:VEVENT
BEGIN:VEVENT
DTSTART;TZID=America/New_York:20210322T100000
DTEND;TZID=America/New_York:20210322T140000
DTSTAMP:20260424T004858
CREATED:20210211T142200Z
LAST-MODIFIED:20210211T142335Z
UID:10000203-1616407200-1616421600@thechallengecoach.com
SUMMARY:Intercultural Training
DESCRIPTION:
URL:https://thechallengecoach.com/event/intercultural-training
LOCATION:Zoom Online
ATTACH;FMTTYPE=image/png:https://thechallengecoach.com/wp-content/uploads/2020/10/netexpat-logo.png
END:VEVENT
BEGIN:VEVENT
DTSTART;TZID=America/New_York:20201218T140000
DTEND;TZID=America/New_York:20201218T160000
DTSTAMP:20260424T004858
CREATED:20201216T201359Z
LAST-MODIFIED:20201216T221906Z
UID:10000181-1608300000-1608307200@thechallengecoach.com
SUMMARY:Intercultural Training - Working and Living in the US
DESCRIPTION:
URL:https://thechallengecoach.com/event/intercultural-training-working-and-living-in-the-us
LOCATION:Zoom Online
ATTACH;FMTTYPE=image/png:https://thechallengecoach.com/wp-content/uploads/2020/10/netexpat-logo.png
END:VEVENT
END:VCALENDAR