BEGIN:VCALENDAR
VERSION:2.0
PRODID:-//The Challenge Coach - ECPv6.15.20//NONSGML v1.0//EN
CALSCALE:GREGORIAN
METHOD:PUBLISH
X-WR-CALNAME:The Challenge Coach
X-ORIGINAL-URL:https://thechallengecoach.com
X-WR-CALDESC:Events for The Challenge Coach
REFRESH-INTERVAL;VALUE=DURATION:PT1H
X-Robots-Tag:noindex
X-PUBLISHED-TTL:PT1H
BEGIN:VTIMEZONE
TZID:America/New_York
BEGIN:DAYLIGHT
TZOFFSETFROM:-0500
TZOFFSETTO:-0400
TZNAME:EDT
DTSTART:20250309T070000
END:DAYLIGHT
BEGIN:STANDARD
TZOFFSETFROM:-0400
TZOFFSETTO:-0500
TZNAME:EST
DTSTART:20251102T060000
END:STANDARD
BEGIN:DAYLIGHT
TZOFFSETFROM:-0500
TZOFFSETTO:-0400
TZNAME:EDT
DTSTART:20260308T070000
END:DAYLIGHT
BEGIN:STANDARD
TZOFFSETFROM:-0400
TZOFFSETTO:-0500
TZNAME:EST
DTSTART:20261101T060000
END:STANDARD
BEGIN:DAYLIGHT
TZOFFSETFROM:-0500
TZOFFSETTO:-0400
TZNAME:EDT
DTSTART:20270314T070000
END:DAYLIGHT
BEGIN:STANDARD
TZOFFSETFROM:-0400
TZOFFSETTO:-0500
TZNAME:EST
DTSTART:20271107T060000
END:STANDARD
END:VTIMEZONE
BEGIN:VEVENT
DTSTART;VALUE=DATE:20260102
DTEND;VALUE=DATE:20260107
DTSTAMP:20260423T212339
CREATED:20251119T035421Z
LAST-MODIFIED:20251119T041307Z
UID:10000329-1767312000-1767743999@thechallengecoach.com
SUMMARY:EMOTIONAL REGULATION SUMMIT | Bringing Peace to Mind\, Body\, and Soul
DESCRIPTION:Kick off 2026 with clarity\, calm\, and connection. My friend Karen Molan has brought together 18 top wellness experts from different fields for this free 5-day online summit on Emotional Regulation. Along with the 17 other experts\, I will be sharing practical strategies to help you manage stress\, deepen relationships\, and reclaim your energy. \n \n \n \nWhat to Expect: \n\n18+ expert interviews and trainings\nTopics spanning neuroscience\, coaching\, energy work\, and emotional mastery\nGuests include ICF Coach of the Year Kathleen Fanning\, Havening expert Stephen Travers\, and more\nPractical tools to help you manage stress\, deepen relationships\, and align your goals with your values\n\n🗓️ Dates: January 2-6\, 2026\n🕒 Format: Daily expert sessions\n💻 Location: Online — attend from anywhere\n🎟️ Cost: Free with registration \nSAVE YOUR SEAT
URL:https://thechallengecoach.com/event/emotional-regulation-summit-bringing-peace-to-mind-body-and-soul
LOCATION:Zoom Online
ATTACH;FMTTYPE=image/png:https://thechallengecoach.com/wp-content/uploads/2025/11/thumbnail_Pascale-Brady-Facebook-Post-group.png
ORGANIZER;CN="Karen Molan":MAILTO:https://www.karenmolan.com/
END:VEVENT
END:VCALENDAR