BEGIN:VCALENDAR
VERSION:2.0
PRODID:-//The Challenge Coach - ECPv6.15.20//NONSGML v1.0//EN
CALSCALE:GREGORIAN
METHOD:PUBLISH
X-ORIGINAL-URL:https://thechallengecoach.com
X-WR-CALDESC:Events for The Challenge Coach
REFRESH-INTERVAL;VALUE=DURATION:PT1H
X-Robots-Tag:noindex
X-PUBLISHED-TTL:PT1H
BEGIN:VTIMEZONE
TZID:America/New_York
BEGIN:DAYLIGHT
TZOFFSETFROM:-0500
TZOFFSETTO:-0400
TZNAME:EDT
DTSTART:20200308T070000
END:DAYLIGHT
BEGIN:STANDARD
TZOFFSETFROM:-0400
TZOFFSETTO:-0500
TZNAME:EST
DTSTART:20201101T060000
END:STANDARD
BEGIN:DAYLIGHT
TZOFFSETFROM:-0500
TZOFFSETTO:-0400
TZNAME:EDT
DTSTART:20210314T070000
END:DAYLIGHT
BEGIN:STANDARD
TZOFFSETFROM:-0400
TZOFFSETTO:-0500
TZNAME:EST
DTSTART:20211107T060000
END:STANDARD
BEGIN:DAYLIGHT
TZOFFSETFROM:-0500
TZOFFSETTO:-0400
TZNAME:EDT
DTSTART:20220313T070000
END:DAYLIGHT
BEGIN:STANDARD
TZOFFSETFROM:-0400
TZOFFSETTO:-0500
TZNAME:EST
DTSTART:20221106T060000
END:STANDARD
END:VTIMEZONE
BEGIN:VEVENT
DTSTART;TZID=America/New_York:20210602T093000
DTEND;TZID=America/New_York:20210602T103000
DTSTAMP:20260424T004304
CREATED:20210211T145811Z
LAST-MODIFIED:20210211T145811Z
UID:10000213-1622626200-1622629800@thechallengecoach.com
SUMMARY:Staying Connected
DESCRIPTION:
URL:https://thechallengecoach.com/event/staying-connected
LOCATION:Zoom Online
ATTACH;FMTTYPE=image/jpeg:https://thechallengecoach.com/wp-content/uploads/2021/01/Balancing-lifes-issues.jpg
END:VEVENT
BEGIN:VEVENT
DTSTART;TZID=America/New_York:20210513T133000
DTEND;TZID=America/New_York:20210513T143000
DTSTAMP:20260424T004304
CREATED:20210211T144621Z
LAST-MODIFIED:20210211T151219Z
UID:10000208-1620912600-1620916200@thechallengecoach.com
SUMMARY:Tips for Supporting Others
DESCRIPTION:
URL:https://thechallengecoach.com/event/tips-for-supporting-others
LOCATION:Zoom Online
ATTACH;FMTTYPE=image/jpeg:https://thechallengecoach.com/wp-content/uploads/2021/01/Balancing-lifes-issues.jpg
END:VEVENT
BEGIN:VEVENT
DTSTART;TZID=America/New_York:20210505T093000
DTEND;TZID=America/New_York:20210505T223000
DTSTAMP:20260424T004304
CREATED:20210211T144502Z
LAST-MODIFIED:20210211T144502Z
UID:10000207-1620207000-1620253800@thechallengecoach.com
SUMMARY:Gratitude
DESCRIPTION:
URL:https://thechallengecoach.com/event/gratitude
LOCATION:Zoom Online
ATTACH;FMTTYPE=image/jpeg:https://thechallengecoach.com/wp-content/uploads/2021/01/Balancing-lifes-issues.jpg
END:VEVENT
BEGIN:VEVENT
DTSTART;TZID=America/New_York:20210415T133000
DTEND;TZID=America/New_York:20210415T143000
DTSTAMP:20260424T004304
CREATED:20210211T142650Z
LAST-MODIFIED:20210211T151020Z
UID:10000206-1618493400-1618497000@thechallengecoach.com
SUMMARY:Best Practices for Working Remote/From Home
DESCRIPTION:
URL:https://thechallengecoach.com/event/best-practices-for-working-remote-from-home
LOCATION:Zoom Online
ATTACH;FMTTYPE=image/jpeg:https://thechallengecoach.com/wp-content/uploads/2021/01/Balancing-lifes-issues.jpg
END:VEVENT
BEGIN:VEVENT
DTSTART;TZID=America/New_York:20210311T133000
DTEND;TZID=America/New_York:20210311T143000
DTSTAMP:20260424T004304
CREATED:20210312T164611Z
LAST-MODIFIED:20210312T164611Z
UID:10000220-1615469400-1615473000@thechallengecoach.com
SUMMARY:Unconscious Bias
DESCRIPTION:
URL:https://thechallengecoach.com/event/unconscious-bias
LOCATION:Zoom Online
ATTACH;FMTTYPE=image/jpeg:https://thechallengecoach.com/wp-content/uploads/2021/01/Balancing-lifes-issues.jpg
END:VEVENT
BEGIN:VEVENT
DTSTART;TZID=America/New_York:20210211T133000
DTEND;TZID=America/New_York:20210211T143000
DTSTAMP:20260424T004304
CREATED:20210211T140922Z
LAST-MODIFIED:20210211T140922Z
UID:10000201-1613050200-1613053800@thechallengecoach.com
SUMMARY:College Success 101
DESCRIPTION:
URL:https://thechallengecoach.com/event/college-success-101
LOCATION:Zoom Online
ATTACH;FMTTYPE=image/jpeg:https://thechallengecoach.com/wp-content/uploads/2021/01/Balancing-lifes-issues.jpg
END:VEVENT
BEGIN:VEVENT
DTSTART;TZID=America/New_York:20210114T133000
DTEND;TZID=America/New_York:20210114T143000
DTSTAMP:20260424T004304
CREATED:20210111T165414Z
LAST-MODIFIED:20210111T165414Z
UID:10000191-1610631000-1610634600@thechallengecoach.com
SUMMARY:Webinar: “Leading in Times of Crisis”
DESCRIPTION:
URL:https://thechallengecoach.com/event/webinar-leading-in-times-of-crisis
LOCATION:Zoom Online
ATTACH;FMTTYPE=image/jpeg:https://thechallengecoach.com/wp-content/uploads/2021/01/Balancing-lifes-issues.jpg
END:VEVENT
END:VCALENDAR