BEGIN:VCALENDAR
VERSION:2.0
PRODID:-//The Challenge Coach - ECPv6.15.20//NONSGML v1.0//EN
CALSCALE:GREGORIAN
METHOD:PUBLISH
X-WR-CALNAME:The Challenge Coach
X-ORIGINAL-URL:https://thechallengecoach.com
X-WR-CALDESC:Events for The Challenge Coach
REFRESH-INTERVAL;VALUE=DURATION:PT1H
X-Robots-Tag:noindex
X-PUBLISHED-TTL:PT1H
BEGIN:VTIMEZONE
TZID:America/New_York
BEGIN:DAYLIGHT
TZOFFSETFROM:-0500
TZOFFSETTO:-0400
TZNAME:EDT
DTSTART:20250309T070000
END:DAYLIGHT
BEGIN:STANDARD
TZOFFSETFROM:-0400
TZOFFSETTO:-0500
TZNAME:EST
DTSTART:20251102T060000
END:STANDARD
BEGIN:DAYLIGHT
TZOFFSETFROM:-0500
TZOFFSETTO:-0400
TZNAME:EDT
DTSTART:20260308T070000
END:DAYLIGHT
BEGIN:STANDARD
TZOFFSETFROM:-0400
TZOFFSETTO:-0500
TZNAME:EST
DTSTART:20261101T060000
END:STANDARD
BEGIN:DAYLIGHT
TZOFFSETFROM:-0500
TZOFFSETTO:-0400
TZNAME:EDT
DTSTART:20270314T070000
END:DAYLIGHT
BEGIN:STANDARD
TZOFFSETFROM:-0400
TZOFFSETTO:-0500
TZNAME:EST
DTSTART:20271107T060000
END:STANDARD
END:VTIMEZONE
BEGIN:VEVENT
DTSTART;TZID=America/New_York:20260429T200000
DTEND;TZID=America/New_York:20260429T210000
DTSTAMP:20260423T145730
CREATED:20260324T193940Z
LAST-MODIFIED:20260324T193940Z
UID:10000583-1777492800-1777496400@thechallengecoach.com
SUMMARY:COURS DE PARENTALITÉ POSITIVE
DESCRIPTION:Vous en avez assez de répéter sans cesse les mêmes demandes? De vous battre du matin au soir pour que vos enfants vous écoutent et fassent ce que vous demandez ? Et finissez-vous régulièrement soit par céder aux exigences de vos enfants\, soit par perdre les pédales ou\, pire\, “pêter les plombs” ?…\nVenez apprendre ce que c’est que la parentalité positive\, un système d’éducation parentale basé sur la psychologie de Alfred Adler\, et qui conduit à une meilleure communication et coopération entre les parents et les enfants\, tout en encourageant des limites fermes et des responsabilités partagées.\nVous repartirez avec des outils concrets\, applicables immédiatement\, et qui conduiront à un environnement familial non seulement plus paisible mais également plus harmonieux.\nCe cours sera participatif\, interactif\, et peut changer la vie radicalement.\n\n\n\n\n\n\n\n\nPOURQUOI ?\n\n\n\n\n\n\n\nUne des choses qu’on ne nous apprend pas à l’école\, c’est comment être parent. C’est bien dommage … car c’est un des jobs les plus difficiles de la terre et un de ceux avec le plus de conséquences et d’impact. Nos choix de parentalité sont donc basés soit sur nos expériences d’enfant (on fait comme ont fait nos parents\, ou au contraire on fait l’inverse !)\, et/ou on lit et on s’informe du mieux qu’on peut pour essayer de trouver son propre chemin. Dans tous les cas\, on tâtonne pas mal et on s’en sort du mieux qu’on peut. Ça ne serait pas mieux avec un bon mode d’emploi ?\n\n\n\n\n\n\n\n\n\n\n\nPOUR QUI ?\nTout adulte francophone (*) qui s’occupe d’enfants âgés de 2 à 18 ans (parents\, futurs parents\, grands-parents\, nannys ou nounous\, professeurs des écoles\, directeurs/trices de garderie etc.).(*) Les cours seront en langue française\n\n\n\n\n\n\n\n\n\n\n\nQUAND ?\nLes mercredis soirs à 20h EST (cours de 75 minutes - heure de New York)Du mercredi 25 mars 2026 au 13 mai 2026\n\n\n\n\n\n\n\n\n\n\n\nOÙ ?\nSur zoom! Les cours seront enregistrés au cas où vous seriez obligé d’en rater un (mais la participation en personne est fortement recommandée).\n\n\n\n\n\n\n\n\n\nCONTENU\n\n\n\n\n\n\n\n\nSession 1\nIntroductions et Objectifs - Styles de parentalite\nSession 2\nLe développement de la personnalité\nSession 3\nDecouragement/Encouragement\nSession 4\nLimites et conséquences\n\n\n\n\nSession 5\nComprendre les comportements de l’enfant\nSession 6\nCorriger les comportements - Training\nSession 7\nCommunication - Ecoute\nSession 8\nRevue: compilation et Conseil de famille\n\n\n\n\n\n\n\n\nCOÛT\n\n\n\n\n\n\nPour ces 8 sessions de 75 minutes (total de 10 heures de contenu) :$199 (soit $20/heure) \nIMPORTANT: Notre intention et souhait est d’offrir ce programme au plus grand nombre. Si vous êtes intéréssé(e) et souhaitez nous rejoindre mais que ce coût est prohibitif pour vous--pour quelque raison que ce soit-- des tarifs réduits sont offerts. Merci de contacter Pascale directement pour en discuter.\n\n\n\n\n\n\nPAR QUI ?\n\n\n\n\n\n\n\nCe cours vous est offert par Pascale Brady\, The Challenge Coach. Pascale est une coach de vie et d’affaire certifiée (CPPC\, PCC) et également Éducatrice Certifiée de Parentalité Adlérienne par PEP (le Parent Encouragement Program) et Positive Discipline avec plus de 20 ans d’expérience en coaching et parentalité.\n\n\n\n\n\n\nUne petite intro à propos du cours et les infos pratiques\n\n\n\n\n\nUne petite intro ICI\n\n\n\n\n\nPasscode: %g46aMUE
URL:https://thechallengecoach.com/event/cours-de-parentalite-positive-2/2026-04-29
LOCATION:Zoom Online
ATTACH;FMTTYPE=image/jpeg:https://thechallengecoach.com/wp-content/uploads/2025/10/AdobeStock_1394973649-scaled.jpeg
END:VEVENT
BEGIN:VEVENT
DTSTART;TZID=America/New_York:20260506T200000
DTEND;TZID=America/New_York:20260506T210000
DTSTAMP:20260423T145730
CREATED:20260324T193940Z
LAST-MODIFIED:20260324T193940Z
UID:10000584-1778097600-1778101200@thechallengecoach.com
SUMMARY:COURS DE PARENTALITÉ POSITIVE
DESCRIPTION:Vous en avez assez de répéter sans cesse les mêmes demandes? De vous battre du matin au soir pour que vos enfants vous écoutent et fassent ce que vous demandez ? Et finissez-vous régulièrement soit par céder aux exigences de vos enfants\, soit par perdre les pédales ou\, pire\, “pêter les plombs” ?…\nVenez apprendre ce que c’est que la parentalité positive\, un système d’éducation parentale basé sur la psychologie de Alfred Adler\, et qui conduit à une meilleure communication et coopération entre les parents et les enfants\, tout en encourageant des limites fermes et des responsabilités partagées.\nVous repartirez avec des outils concrets\, applicables immédiatement\, et qui conduiront à un environnement familial non seulement plus paisible mais également plus harmonieux.\nCe cours sera participatif\, interactif\, et peut changer la vie radicalement.\n\n\n\n\n\n\n\n\nPOURQUOI ?\n\n\n\n\n\n\n\nUne des choses qu’on ne nous apprend pas à l’école\, c’est comment être parent. C’est bien dommage … car c’est un des jobs les plus difficiles de la terre et un de ceux avec le plus de conséquences et d’impact. Nos choix de parentalité sont donc basés soit sur nos expériences d’enfant (on fait comme ont fait nos parents\, ou au contraire on fait l’inverse !)\, et/ou on lit et on s’informe du mieux qu’on peut pour essayer de trouver son propre chemin. Dans tous les cas\, on tâtonne pas mal et on s’en sort du mieux qu’on peut. Ça ne serait pas mieux avec un bon mode d’emploi ?\n\n\n\n\n\n\n\n\n\n\n\nPOUR QUI ?\nTout adulte francophone (*) qui s’occupe d’enfants âgés de 2 à 18 ans (parents\, futurs parents\, grands-parents\, nannys ou nounous\, professeurs des écoles\, directeurs/trices de garderie etc.).(*) Les cours seront en langue française\n\n\n\n\n\n\n\n\n\n\n\nQUAND ?\nLes mercredis soirs à 20h EST (cours de 75 minutes - heure de New York)Du mercredi 25 mars 2026 au 13 mai 2026\n\n\n\n\n\n\n\n\n\n\n\nOÙ ?\nSur zoom! Les cours seront enregistrés au cas où vous seriez obligé d’en rater un (mais la participation en personne est fortement recommandée).\n\n\n\n\n\n\n\n\n\nCONTENU\n\n\n\n\n\n\n\n\nSession 1\nIntroductions et Objectifs - Styles de parentalite\nSession 2\nLe développement de la personnalité\nSession 3\nDecouragement/Encouragement\nSession 4\nLimites et conséquences\n\n\n\n\nSession 5\nComprendre les comportements de l’enfant\nSession 6\nCorriger les comportements - Training\nSession 7\nCommunication - Ecoute\nSession 8\nRevue: compilation et Conseil de famille\n\n\n\n\n\n\n\n\nCOÛT\n\n\n\n\n\n\nPour ces 8 sessions de 75 minutes (total de 10 heures de contenu) :$199 (soit $20/heure) \nIMPORTANT: Notre intention et souhait est d’offrir ce programme au plus grand nombre. Si vous êtes intéréssé(e) et souhaitez nous rejoindre mais que ce coût est prohibitif pour vous--pour quelque raison que ce soit-- des tarifs réduits sont offerts. Merci de contacter Pascale directement pour en discuter.\n\n\n\n\n\n\nPAR QUI ?\n\n\n\n\n\n\n\nCe cours vous est offert par Pascale Brady\, The Challenge Coach. Pascale est une coach de vie et d’affaire certifiée (CPPC\, PCC) et également Éducatrice Certifiée de Parentalité Adlérienne par PEP (le Parent Encouragement Program) et Positive Discipline avec plus de 20 ans d’expérience en coaching et parentalité.\n\n\n\n\n\n\nUne petite intro à propos du cours et les infos pratiques\n\n\n\n\n\nUne petite intro ICI\n\n\n\n\n\nPasscode: %g46aMUE
URL:https://thechallengecoach.com/event/cours-de-parentalite-positive-2/2026-05-06
LOCATION:Zoom Online
ATTACH;FMTTYPE=image/jpeg:https://thechallengecoach.com/wp-content/uploads/2025/10/AdobeStock_1394973649-scaled.jpeg
END:VEVENT
BEGIN:VEVENT
DTSTART;TZID=America/New_York:20260513T200000
DTEND;TZID=America/New_York:20260513T210000
DTSTAMP:20260423T145730
CREATED:20260324T193940Z
LAST-MODIFIED:20260324T193940Z
UID:10000585-1778702400-1778706000@thechallengecoach.com
SUMMARY:COURS DE PARENTALITÉ POSITIVE
DESCRIPTION:Vous en avez assez de répéter sans cesse les mêmes demandes? De vous battre du matin au soir pour que vos enfants vous écoutent et fassent ce que vous demandez ? Et finissez-vous régulièrement soit par céder aux exigences de vos enfants\, soit par perdre les pédales ou\, pire\, “pêter les plombs” ?…\nVenez apprendre ce que c’est que la parentalité positive\, un système d’éducation parentale basé sur la psychologie de Alfred Adler\, et qui conduit à une meilleure communication et coopération entre les parents et les enfants\, tout en encourageant des limites fermes et des responsabilités partagées.\nVous repartirez avec des outils concrets\, applicables immédiatement\, et qui conduiront à un environnement familial non seulement plus paisible mais également plus harmonieux.\nCe cours sera participatif\, interactif\, et peut changer la vie radicalement.\n\n\n\n\n\n\n\n\nPOURQUOI ?\n\n\n\n\n\n\n\nUne des choses qu’on ne nous apprend pas à l’école\, c’est comment être parent. C’est bien dommage … car c’est un des jobs les plus difficiles de la terre et un de ceux avec le plus de conséquences et d’impact. Nos choix de parentalité sont donc basés soit sur nos expériences d’enfant (on fait comme ont fait nos parents\, ou au contraire on fait l’inverse !)\, et/ou on lit et on s’informe du mieux qu’on peut pour essayer de trouver son propre chemin. Dans tous les cas\, on tâtonne pas mal et on s’en sort du mieux qu’on peut. Ça ne serait pas mieux avec un bon mode d’emploi ?\n\n\n\n\n\n\n\n\n\n\n\nPOUR QUI ?\nTout adulte francophone (*) qui s’occupe d’enfants âgés de 2 à 18 ans (parents\, futurs parents\, grands-parents\, nannys ou nounous\, professeurs des écoles\, directeurs/trices de garderie etc.).(*) Les cours seront en langue française\n\n\n\n\n\n\n\n\n\n\n\nQUAND ?\nLes mercredis soirs à 20h EST (cours de 75 minutes - heure de New York)Du mercredi 25 mars 2026 au 13 mai 2026\n\n\n\n\n\n\n\n\n\n\n\nOÙ ?\nSur zoom! Les cours seront enregistrés au cas où vous seriez obligé d’en rater un (mais la participation en personne est fortement recommandée).\n\n\n\n\n\n\n\n\n\nCONTENU\n\n\n\n\n\n\n\n\nSession 1\nIntroductions et Objectifs - Styles de parentalite\nSession 2\nLe développement de la personnalité\nSession 3\nDecouragement/Encouragement\nSession 4\nLimites et conséquences\n\n\n\n\nSession 5\nComprendre les comportements de l’enfant\nSession 6\nCorriger les comportements - Training\nSession 7\nCommunication - Ecoute\nSession 8\nRevue: compilation et Conseil de famille\n\n\n\n\n\n\n\n\nCOÛT\n\n\n\n\n\n\nPour ces 8 sessions de 75 minutes (total de 10 heures de contenu) :$199 (soit $20/heure) \nIMPORTANT: Notre intention et souhait est d’offrir ce programme au plus grand nombre. Si vous êtes intéréssé(e) et souhaitez nous rejoindre mais que ce coût est prohibitif pour vous--pour quelque raison que ce soit-- des tarifs réduits sont offerts. Merci de contacter Pascale directement pour en discuter.\n\n\n\n\n\n\nPAR QUI ?\n\n\n\n\n\n\n\nCe cours vous est offert par Pascale Brady\, The Challenge Coach. Pascale est une coach de vie et d’affaire certifiée (CPPC\, PCC) et également Éducatrice Certifiée de Parentalité Adlérienne par PEP (le Parent Encouragement Program) et Positive Discipline avec plus de 20 ans d’expérience en coaching et parentalité.\n\n\n\n\n\n\nUne petite intro à propos du cours et les infos pratiques\n\n\n\n\n\nUne petite intro ICI\n\n\n\n\n\nPasscode: %g46aMUE
URL:https://thechallengecoach.com/event/cours-de-parentalite-positive-2/2026-05-13
LOCATION:Zoom Online
ATTACH;FMTTYPE=image/jpeg:https://thechallengecoach.com/wp-content/uploads/2025/10/AdobeStock_1394973649-scaled.jpeg
END:VEVENT
END:VCALENDAR