BEGIN:VCALENDAR
VERSION:2.0
PRODID:-//The Challenge Coach - ECPv6.15.20//NONSGML v1.0//EN
CALSCALE:GREGORIAN
METHOD:PUBLISH
X-ORIGINAL-URL:https://thechallengecoach.com
X-WR-CALDESC:Events for The Challenge Coach
REFRESH-INTERVAL;VALUE=DURATION:PT1H
X-Robots-Tag:noindex
X-PUBLISHED-TTL:PT1H
BEGIN:VTIMEZONE
TZID:America/New_York
BEGIN:DAYLIGHT
TZOFFSETFROM:-0500
TZOFFSETTO:-0400
TZNAME:EDT
DTSTART:20250309T070000
END:DAYLIGHT
BEGIN:STANDARD
TZOFFSETFROM:-0400
TZOFFSETTO:-0500
TZNAME:EST
DTSTART:20251102T060000
END:STANDARD
BEGIN:DAYLIGHT
TZOFFSETFROM:-0500
TZOFFSETTO:-0400
TZNAME:EDT
DTSTART:20260308T070000
END:DAYLIGHT
BEGIN:STANDARD
TZOFFSETFROM:-0400
TZOFFSETTO:-0500
TZNAME:EST
DTSTART:20261101T060000
END:STANDARD
BEGIN:DAYLIGHT
TZOFFSETFROM:-0500
TZOFFSETTO:-0400
TZNAME:EDT
DTSTART:20270314T070000
END:DAYLIGHT
BEGIN:STANDARD
TZOFFSETFROM:-0400
TZOFFSETTO:-0500
TZNAME:EST
DTSTART:20271107T060000
END:STANDARD
END:VTIMEZONE
BEGIN:VEVENT
DTSTART;VALUE=DATE:20260102
DTEND;VALUE=DATE:20260107
DTSTAMP:20260423T232426
CREATED:20251119T035421Z
LAST-MODIFIED:20251119T041307Z
UID:10000329-1767312000-1767743999@thechallengecoach.com
SUMMARY:EMOTIONAL REGULATION SUMMIT | Bringing Peace to Mind\, Body\, and Soul
DESCRIPTION:Kick off 2026 with clarity\, calm\, and connection. My friend Karen Molan has brought together 18 top wellness experts from different fields for this free 5-day online summit on Emotional Regulation. Along with the 17 other experts\, I will be sharing practical strategies to help you manage stress\, deepen relationships\, and reclaim your energy. \n \n \n \nWhat to Expect: \n\n18+ expert interviews and trainings\nTopics spanning neuroscience\, coaching\, energy work\, and emotional mastery\nGuests include ICF Coach of the Year Kathleen Fanning\, Havening expert Stephen Travers\, and more\nPractical tools to help you manage stress\, deepen relationships\, and align your goals with your values\n\n🗓️ Dates: January 2-6\, 2026\n🕒 Format: Daily expert sessions\n💻 Location: Online — attend from anywhere\n🎟️ Cost: Free with registration \nSAVE YOUR SEAT
URL:https://thechallengecoach.com/event/emotional-regulation-summit-bringing-peace-to-mind-body-and-soul
LOCATION:Zoom Online
ATTACH;FMTTYPE=image/png:https://thechallengecoach.com/wp-content/uploads/2025/11/thumbnail_Pascale-Brady-Facebook-Post-group.png
ORGANIZER;CN="Karen Molan":MAILTO:https://www.karenmolan.com/
END:VEVENT
BEGIN:VEVENT
DTSTART;TZID=America/New_York:20260127T100000
DTEND;TZID=America/New_York:20260127T120000
DTSTAMP:20260423T232426
CREATED:20251216T215316Z
LAST-MODIFIED:20251216T215316Z
UID:10000331-1769508000-1769515200@thechallengecoach.com
SUMMARY:WAA JNC | Washington Accueil Association - Job Networking Club
DESCRIPTION:Les Différences Culturelles Franco-Américaines\nTuesday\, January 27\, 2026\n10 AM - 12 PM ET
URL:https://thechallengecoach.com/event/waa-jnc-washington-accueil-association-job-networking-club
ATTACH;FMTTYPE=image/jpeg:https://thechallengecoach.com/wp-content/uploads/2025/12/JNC.jpg
END:VEVENT
BEGIN:VEVENT
DTSTART;TZID=America/New_York:20260128T200000
DTEND;TZID=America/New_York:20260128T210000
DTSTAMP:20260423T232426
CREATED:20260128T035046Z
LAST-MODIFIED:20260128T035046Z
UID:10000394-1769630400-1769634000@thechallengecoach.com
SUMMARY:PEP Webinar: Family Meetings: Solving Problems as a Team
DESCRIPTION:When families are confronted with recurring and seemingly unsolvable problems\, they can work together to solve their problems cooperatively. Family meetings allow each person\, from preschooler to parent or caregiver\, to have an equal and respected voice in their household. \nWe'll explore: \nthe impact of family meetings on children\, where they practice how to listen to others and find agreement\nthe impact on families\, who discover a more cooperative and harmonious household\nthe basics of how to set up a family meeting\na step-by-step process to identify and resolve problems together\nRegistration includes access to the live webinar\, handouts and resources\, and audio/video recordings. \nYour Instructor \nPascale is a Certified Parent Educator with the Parent Encouragement Program. She became a widow and single parent when her two daughters were 10 and 12. Pascale has been teaching and developing PEP's parenting classes for close to 20 years. \nAs Pascale made her way through PEP classes\, she learned about the psychology of Alfred Adler\, which forms the bedrock of PEP's positive parenting curriculum. She became The Challenge Coach\, a life and business coach\, in 2005 and uses Adlerian tools in her individual and corporate coaching. In addition to being an Adlerian\, Pascale is French\, German\, and American\, and works fluently in all three languages.
URL:https://thechallengecoach.com/event/pep-webinar-family-meetings-solving-problems-as-a-team
LOCATION:Zoom Online
ATTACH;FMTTYPE=image/png:https://thechallengecoach.com/wp-content/uploads/2020/10/logo-footer.png
END:VEVENT
END:VCALENDAR