BEGIN:VCALENDAR
VERSION:2.0
PRODID:-//The Challenge Coach - ECPv6.15.20//NONSGML v1.0//EN
CALSCALE:GREGORIAN
METHOD:PUBLISH
X-WR-CALNAME:The Challenge Coach
X-ORIGINAL-URL:https://thechallengecoach.com
X-WR-CALDESC:Events for The Challenge Coach
REFRESH-INTERVAL;VALUE=DURATION:PT1H
X-Robots-Tag:noindex
X-PUBLISHED-TTL:PT1H
BEGIN:VTIMEZONE
TZID:America/New_York
BEGIN:DAYLIGHT
TZOFFSETFROM:-0500
TZOFFSETTO:-0400
TZNAME:EDT
DTSTART:20240310T070000
END:DAYLIGHT
BEGIN:STANDARD
TZOFFSETFROM:-0400
TZOFFSETTO:-0500
TZNAME:EST
DTSTART:20241103T060000
END:STANDARD
BEGIN:DAYLIGHT
TZOFFSETFROM:-0500
TZOFFSETTO:-0400
TZNAME:EDT
DTSTART:20250309T070000
END:DAYLIGHT
BEGIN:STANDARD
TZOFFSETFROM:-0400
TZOFFSETTO:-0500
TZNAME:EST
DTSTART:20251102T060000
END:STANDARD
BEGIN:DAYLIGHT
TZOFFSETFROM:-0500
TZOFFSETTO:-0400
TZNAME:EDT
DTSTART:20260308T070000
END:DAYLIGHT
BEGIN:STANDARD
TZOFFSETFROM:-0400
TZOFFSETTO:-0500
TZNAME:EST
DTSTART:20261101T060000
END:STANDARD
END:VTIMEZONE
BEGIN:VEVENT
DTSTART;TZID=America/New_York:20250509T120000
DTEND;TZID=America/New_York:20250509T130000
DTSTAMP:20260424T134958
CREATED:20250429T162806Z
LAST-MODIFIED:20250429T162806Z
UID:10000311-1746792000-1746795600@thechallengecoach.com
SUMMARY:Strengthening your mental fitness | Free PQ Webinar
DESCRIPTION:
URL:https://thechallengecoach.com/event/strengthening-your-mental-fitness-free-pq-webinar
LOCATION:Zoom Online
ATTACH;FMTTYPE=image/png:https://thechallengecoach.com/wp-content/uploads/2025/03/Email-signature.png
END:VEVENT
BEGIN:VEVENT
DTSTART;TZID=America/New_York:20250514T130000
DTEND;TZID=America/New_York:20250514T140000
DTSTAMP:20260424T134958
CREATED:20250311T154055Z
LAST-MODIFIED:20250429T162953Z
UID:10000306-1747227600-1747231200@thechallengecoach.com
SUMMARY:FREE USA Encouragement Circle
DESCRIPTION:Join me on the second Wednesday of the month at 1PM EST for a FREE 60-minute Weekly Encouragement Circle—a space to recharge\, reignite your courage and refocus. \nWhat you will receive in the Circle of Encouragement: \nA Midweek Check-in – Pause\, breathe\, and center yourself.\nEncouragement Strategies – Learn powerful tools to shift your mindset and stay motivated.\nCommunity & Connection – Be part of an uplifting space where support and inspiration fuel your week.\nMore Courage & Hope – Walk away feeling stronger\, more focused\, and ready to take on what’s ahead. \nThis is for YOU if: \nYou’re feeling despondent\, despairing\, angry\, hopeless\, or helpless about the current circumstances in our country.\nYou’re navigating challenges and need a morale boost.\nYou want to stay aligned with\, and focused on\, your purpose (vs. being distracted.)\nYou love connecting with like-minded\, forward-thinking\, kind and supportive fellow Americans. \nLive & Online | Free to Attend\nSign up now & bring a friend! \nRegister here
URL:https://thechallengecoach.com/event/free-60-minute-weekly-encouragement-circle-4
LOCATION:Zoom Online
ATTACH;FMTTYPE=image/png:https://thechallengecoach.com/wp-content/uploads/2025/03/Email-signature.png
END:VEVENT
BEGIN:VEVENT
DTSTART;TZID=America/New_York:20250514T200000
DTEND;TZID=America/New_York:20250514T210000
DTSTAMP:20260424T134958
CREATED:20250129T175902Z
LAST-MODIFIED:20250320T105428Z
UID:10000301-1747252800-1747256400@thechallengecoach.com
SUMMARY:FREE Transformative and Leadership Coaching Webinar
DESCRIPTION:
URL:https://thechallengecoach.com/event/free-transformative-and-leadership-coaching-webinar
LOCATION:Zoom Online
ATTACH;FMTTYPE=image/png:https://thechallengecoach.com/wp-content/uploads/2025/01/2025-Logo-recolour-e1762139675609.png
END:VEVENT
END:VCALENDAR