BEGIN:VCALENDAR
VERSION:2.0
PRODID:-//The Challenge Coach - ECPv6.15.20//NONSGML v1.0//EN
CALSCALE:GREGORIAN
METHOD:PUBLISH
X-WR-CALNAME:The Challenge Coach
X-ORIGINAL-URL:https://thechallengecoach.com
X-WR-CALDESC:Events for The Challenge Coach
REFRESH-INTERVAL;VALUE=DURATION:PT1H
X-Robots-Tag:noindex
X-PUBLISHED-TTL:PT1H
BEGIN:VTIMEZONE
TZID:America/New_York
BEGIN:DAYLIGHT
TZOFFSETFROM:-0500
TZOFFSETTO:-0400
TZNAME:EDT
DTSTART:20240310T070000
END:DAYLIGHT
BEGIN:STANDARD
TZOFFSETFROM:-0400
TZOFFSETTO:-0500
TZNAME:EST
DTSTART:20241103T060000
END:STANDARD
BEGIN:DAYLIGHT
TZOFFSETFROM:-0500
TZOFFSETTO:-0400
TZNAME:EDT
DTSTART:20250309T070000
END:DAYLIGHT
BEGIN:STANDARD
TZOFFSETFROM:-0400
TZOFFSETTO:-0500
TZNAME:EST
DTSTART:20251102T060000
END:STANDARD
BEGIN:DAYLIGHT
TZOFFSETFROM:-0500
TZOFFSETTO:-0400
TZNAME:EDT
DTSTART:20260308T070000
END:DAYLIGHT
BEGIN:STANDARD
TZOFFSETFROM:-0400
TZOFFSETTO:-0500
TZNAME:EST
DTSTART:20261101T060000
END:STANDARD
END:VTIMEZONE
BEGIN:VEVENT
DTSTART;TZID=America/New_York:20250305T120000
DTEND;TZID=America/New_York:20250305T130000
DTSTAMP:20260424T172446
CREATED:20250129T175600Z
LAST-MODIFIED:20250129T175600Z
UID:10000299-1741176000-1741179600@thechallengecoach.com
SUMMARY:FREE Transformative and Leadership Coaching Webinar with Bengü Tekinalp
DESCRIPTION:
URL:https://thechallengecoach.com/event/free-transformative-and-leadership-coaching-webinar-with-bengu-tekinalp
LOCATION:Zoom Online
ATTACH;FMTTYPE=image/png:https://thechallengecoach.com/wp-content/uploads/2023/02/TLC-Logo.png
END:VEVENT
BEGIN:VEVENT
DTSTART;TZID=America/New_York:20250312T130000
DTEND;TZID=America/New_York:20250312T140000
DTSTAMP:20260424T172446
CREATED:20250311T153628Z
LAST-MODIFIED:20250313T134841Z
UID:10000303-1741784400-1741788000@thechallengecoach.com
SUMMARY:FREE USA Encouragement Circle
DESCRIPTION:Join me every Wednesday at 1PM EST for a FREE 60-minute Weekly Encouragement Circle—a space to recharge\, reignite your courage and refocus. \nWhat you will receive in the Circle of Encouragement: \nA Midweek Check-in – Pause\, breathe\, and center yourself.\nEncouragement Strategies – Learn powerful tools to shift your mindset and stay motivated.\nCommunity & Connection – Be part of an uplifting space where support and inspiration fuel your week.\nMore Courage & Hope – Walk away feeling stronger\, more focused\, and ready to take on what’s ahead. \nThis is for YOU if: \nYou’re feeling despondent\, despairing\, angry\, hopeless\, or helpless about the current circumstances in our country.\nYou’re navigating challenges and need a morale boost.\nYou want to stay aligned with\, and focused on\, your purpose (vs. being distracted.)\nYou love connecting with like-minded\, forward-thinking\, kind and supportive fellow Americans. \nLive & Online | Free to Attend\nSign up now & bring a friend! \nRegister here
URL:https://thechallengecoach.com/event/free-60-minute-weekly-encouragement-circle
LOCATION:Zoom Online
ATTACH;FMTTYPE=image/png:https://thechallengecoach.com/wp-content/uploads/2025/03/Email-signature.png
END:VEVENT
BEGIN:VEVENT
DTSTART;TZID=America/New_York:20250319T130000
DTEND;TZID=America/New_York:20250319T140000
DTSTAMP:20260424T172446
CREATED:20250311T153815Z
LAST-MODIFIED:20250313T134834Z
UID:10000304-1742389200-1742392800@thechallengecoach.com
SUMMARY:FREE USA Encouragement Circle
DESCRIPTION:Join me every Wednesday at 1PM EST for a FREE 60-minute Weekly Encouragement Circle—a space to recharge\, reignite your courage and refocus. \nWhat you will receive in the Circle of Encouragement: \nA Midweek Check-in – Pause\, breathe\, and center yourself.\nEncouragement Strategies – Learn powerful tools to shift your mindset and stay motivated.\nCommunity & Connection – Be part of an uplifting space where support and inspiration fuel your week.\nMore Courage & Hope – Walk away feeling stronger\, more focused\, and ready to take on what’s ahead. \nThis is for YOU if: \nYou’re feeling despondent\, despairing\, angry\, hopeless\, or helpless about the current circumstances in our country.\nYou’re navigating challenges and need a morale boost.\nYou want to stay aligned with\, and focused on\, your purpose (vs. being distracted.)\nYou love connecting with like-minded\, forward-thinking\, kind and supportive fellow Americans. \nLive & Online | Free to Attend\nSign up now & bring a friend! \nRegister here
URL:https://thechallengecoach.com/event/free-60-minute-weekly-encouragement-circle-2
LOCATION:Zoom Online
ATTACH;FMTTYPE=image/png:https://thechallengecoach.com/wp-content/uploads/2025/03/Email-signature.png
END:VEVENT
BEGIN:VEVENT
DTSTART;TZID=America/New_York:20250319T140000
DTEND;TZID=America/New_York:20250319T150000
DTSTAMP:20260424T172446
CREATED:20250313T134753Z
LAST-MODIFIED:20250313T134753Z
UID:10000307-1742392800-1742396400@thechallengecoach.com
SUMMARY:FREE World Encouragement Circle
DESCRIPTION:This is a FREE 60-minute Encouragement Session—a dedicated space to reset your mindset\, refuel your energy\, and step forward with courage. \nWhat to Expect: \n- A Midweek Reset \n- Take a breath\, check in\, and realign. \n- Encouragement Strategies \n- Practical tools to stay resilient and motivated. \n- Community & Connection \n- A space where like-minded individuals lift each other up. \n- A Confidence Boost \n– Walk away feeling stronger\, inspired\, and ready to tackle what’s next. \nThis is for YOU if: \n✔ You’re navigating challenges and could use a positive reset. \n✔ You want to stay aligned with your goals and purpose. \n✔ You thrive in a supportive\, forward-thinking community.
URL:https://thechallengecoach.com/event/free-world-encouragement-circle
LOCATION:Zoom Online
ATTACH;FMTTYPE=image/png:https://thechallengecoach.com/wp-content/uploads/2025/03/Email-signature.png
END:VEVENT
BEGIN:VEVENT
DTSTART;TZID=America/New_York:20250320T103000
DTEND;TZID=America/New_York:20250320T120000
DTSTAMP:20260424T172446
CREATED:20250226T152420Z
LAST-MODIFIED:20250226T152420Z
UID:10000302-1742466600-1742472000@thechallengecoach.com
SUMMARY:Parenting Club | “Positive Parenting”: What is it?
DESCRIPTION:
URL:https://thechallengecoach.com/event/parenting-club-positive-parenting-what-is-it
LOCATION:TBC
ATTACH;FMTTYPE=image/png:https://thechallengecoach.com/wp-content/uploads/2023/02/WAA.png
END:VEVENT
BEGIN:VEVENT
DTSTART;TZID=America/New_York:20250326T130000
DTEND;TZID=America/New_York:20250326T140000
DTSTAMP:20260424T172446
CREATED:20250311T153918Z
LAST-MODIFIED:20250313T134826Z
UID:10000305-1742994000-1742997600@thechallengecoach.com
SUMMARY:FREE USA Encouragement Circle
DESCRIPTION:Join me every Wednesday at 1PM EST for a FREE 60-minute Weekly Encouragement Circle—a space to recharge\, reignite your courage and refocus. \nWhat you will receive in the Circle of Encouragement: \nA Midweek Check-in – Pause\, breathe\, and center yourself.\nEncouragement Strategies – Learn powerful tools to shift your mindset and stay motivated.\nCommunity & Connection – Be part of an uplifting space where support and inspiration fuel your week.\nMore Courage & Hope – Walk away feeling stronger\, more focused\, and ready to take on what’s ahead. \nThis is for YOU if: \nYou’re feeling despondent\, despairing\, angry\, hopeless\, or helpless about the current circumstances in our country.\nYou’re navigating challenges and need a morale boost.\nYou want to stay aligned with\, and focused on\, your purpose (vs. being distracted.)\nYou love connecting with like-minded\, forward-thinking\, kind and supportive fellow Americans. \nLive & Online | Free to Attend\nSign up now & bring a friend! \nRegister here
URL:https://thechallengecoach.com/event/free-60-minute-weekly-encouragement-circle-3
LOCATION:Zoom Online
ATTACH;FMTTYPE=image/png:https://thechallengecoach.com/wp-content/uploads/2025/03/Email-signature.png
END:VEVENT
BEGIN:VEVENT
DTSTART;TZID=America/New_York:20250326T140000
DTEND;TZID=America/New_York:20250326T150000
DTSTAMP:20260424T172446
CREATED:20250313T134948Z
LAST-MODIFIED:20250313T134948Z
UID:10000308-1742997600-1743001200@thechallengecoach.com
SUMMARY:FREE World Encouragement Circle
DESCRIPTION:This is a FREE 60-minute Encouragement Session—a dedicated space to reset your mindset\, refuel your energy\, and step forward with courage. \nWhat to Expect: \n- A Midweek Reset \n- Take a breath\, check in\, and realign. \n- Encouragement Strategies \n- Practical tools to stay resilient and motivated. \n- Community & Connection \n- A space where like-minded individuals lift each other up. \n- A Confidence Boost \n– Walk away feeling stronger\, inspired\, and ready to tackle what’s next. \nThis is for YOU if: \n✔ You’re navigating challenges and could use a positive reset. \n✔ You want to stay aligned with your goals and purpose. \n✔ You thrive in a supportive\, forward-thinking community.
URL:https://thechallengecoach.com/event/free-world-encouragement-circle-2
LOCATION:Zoom Online
ATTACH;FMTTYPE=image/png:https://thechallengecoach.com/wp-content/uploads/2025/03/Email-signature.png
END:VEVENT
END:VCALENDAR