BEGIN:VCALENDAR
VERSION:2.0
PRODID:-//The Challenge Coach - ECPv6.15.20//NONSGML v1.0//EN
CALSCALE:GREGORIAN
METHOD:PUBLISH
X-WR-CALNAME:The Challenge Coach
X-ORIGINAL-URL:https://thechallengecoach.com
X-WR-CALDESC:Events for The Challenge Coach
REFRESH-INTERVAL;VALUE=DURATION:PT1H
X-Robots-Tag:noindex
X-PUBLISHED-TTL:PT1H
BEGIN:VTIMEZONE
TZID:America/New_York
BEGIN:DAYLIGHT
TZOFFSETFROM:-0500
TZOFFSETTO:-0400
TZNAME:EDT
DTSTART:20200308T070000
END:DAYLIGHT
BEGIN:STANDARD
TZOFFSETFROM:-0400
TZOFFSETTO:-0500
TZNAME:EST
DTSTART:20201101T060000
END:STANDARD
BEGIN:DAYLIGHT
TZOFFSETFROM:-0500
TZOFFSETTO:-0400
TZNAME:EDT
DTSTART:20210314T070000
END:DAYLIGHT
BEGIN:STANDARD
TZOFFSETFROM:-0400
TZOFFSETTO:-0500
TZNAME:EST
DTSTART:20211107T060000
END:STANDARD
BEGIN:DAYLIGHT
TZOFFSETFROM:-0500
TZOFFSETTO:-0400
TZNAME:EDT
DTSTART:20220313T070000
END:DAYLIGHT
BEGIN:STANDARD
TZOFFSETFROM:-0400
TZOFFSETTO:-0500
TZNAME:EST
DTSTART:20221106T060000
END:STANDARD
END:VTIMEZONE
BEGIN:VEVENT
DTSTART;TZID=America/New_York:20211005T100000
DTEND;TZID=America/New_York:20211005T140000
DTSTAMP:20260424T062829
CREATED:20210927T134949Z
LAST-MODIFIED:20210927T134949Z
UID:10000228-1633428000-1633442400@thechallengecoach.com
SUMMARY:Intercultural Training
DESCRIPTION:
URL:https://thechallengecoach.com/event/intercultural-training-5
ATTACH;FMTTYPE=image/png:https://thechallengecoach.com/wp-content/uploads/2020/10/netexpat-logo.png
END:VEVENT
BEGIN:VEVENT
DTSTART;TZID=America/New_York:20211001T110000
DTEND;TZID=America/New_York:20211001T130000
DTSTAMP:20260424T062829
CREATED:20210927T134825Z
LAST-MODIFIED:20210927T134825Z
UID:10000227-1633086000-1633093200@thechallengecoach.com
SUMMARY:ICF Western Carolina Chapter: Adler- the Grey Zone\, where coaching meets therapy
DESCRIPTION:
URL:https://thechallengecoach.com/event/icf-western-carolina-chapter-adler-the-grey-zone-where-coaching-meets-therapy
ATTACH;FMTTYPE=image/png:https://thechallengecoach.com/wp-content/uploads/2020/10/ICF.png
END:VEVENT
BEGIN:VEVENT
DTSTART;TZID=America/New_York:20210929T120000
DTEND;TZID=America/New_York:20210929T130000
DTSTAMP:20260424T062829
CREATED:20210927T134454Z
LAST-MODIFIED:20210927T134454Z
UID:10000226-1632916800-1632920400@thechallengecoach.com
SUMMARY:PEP Office Hours
DESCRIPTION:
URL:https://thechallengecoach.com/event/pep-office-hours-3
ATTACH;FMTTYPE=image/png:https://thechallengecoach.com/wp-content/uploads/2020/10/logo-footer.png
END:VEVENT
BEGIN:VEVENT
DTSTART;TZID=America/New_York:20210914T100000
DTEND;TZID=America/New_York:20210914T140000
DTSTAMP:20260424T062829
CREATED:20210927T134242Z
LAST-MODIFIED:20210927T134242Z
UID:10000180-1631613600-1631628000@thechallengecoach.com
SUMMARY:Intercultural Training
DESCRIPTION:
URL:https://thechallengecoach.com/event/intercultural-training-4
ATTACH;FMTTYPE=image/jpeg:https://thechallengecoach.com/wp-content/uploads/2020/09/ABOUT-netexpat-logo.jpg
END:VEVENT
BEGIN:VEVENT
DTSTART;TZID=America/New_York:20210904T203000
DTEND;TZID=America/New_York:20211001T213000
DTSTAMP:20260424T062829
CREATED:20210927T134046Z
LAST-MODIFIED:20210927T134046Z
UID:10000178-1630787400-1633123800@thechallengecoach.com
SUMMARY:Redefining Discipline
DESCRIPTION:
URL:https://thechallengecoach.com/event/redefining-discipline
ATTACH;FMTTYPE=image/png:https://thechallengecoach.com/wp-content/uploads/2020/10/logo-footer.png
END:VEVENT
BEGIN:VEVENT
DTSTART;TZID=America/New_York:20210617T200000
DTEND;TZID=America/New_York:20210617T210000
DTSTAMP:20260424T062829
CREATED:20210203T135647Z
LAST-MODIFIED:20210526T085947Z
UID:10000198-1623960000-1623963600@thechallengecoach.com
SUMMARY:“Pulling Back the Coaching Curtain: How Do Coaches Think?” FREE Coaching Webinar
DESCRIPTION:
URL:https://thechallengecoach.com/event/pulling-back-the-coaching-curtain-how-do-coaches-think-free-coaching-webinar-3
LOCATION:Zoom Online
ATTACH;FMTTYPE=image/png:https://thechallengecoach.com/wp-content/uploads/2020/12/TLC-Logo.png
END:VEVENT
BEGIN:VEVENT
DTSTART;TZID=America/New_York:20210604T090000
DTEND;TZID=America/New_York:20210605T170000
DTSTAMP:20260424T062829
CREATED:20210211T150720Z
LAST-MODIFIED:20210211T150720Z
UID:10000215-1622797200-1622912400@thechallengecoach.com
SUMMARY:Capital Coaches Conference
DESCRIPTION:
URL:https://thechallengecoach.com/event/capital-coaches-conference-2
LOCATION:Hyatt Regency\, 400 New Jersey Ave NW\, Washington DC\, 20001
ATTACH;FMTTYPE=image/png:https://thechallengecoach.com/wp-content/uploads/2020/10/ICF.png
END:VEVENT
BEGIN:VEVENT
DTSTART;TZID=America/New_York:20210602T120000
DTEND;TZID=America/New_York:20210630T130000
DTSTAMP:20260424T062829
CREATED:20210211T150124Z
LAST-MODIFIED:20210211T150124Z
UID:10000214-1622635200-1625058000@thechallengecoach.com
SUMMARY:PEP Office Hours
DESCRIPTION:
URL:https://thechallengecoach.com/event/pep-office-hours
LOCATION:Zoom Online
ATTACH;FMTTYPE=image/png:https://thechallengecoach.com/wp-content/uploads/2020/10/logo-footer.png
END:VEVENT
BEGIN:VEVENT
DTSTART;TZID=America/New_York:20210602T093000
DTEND;TZID=America/New_York:20210602T103000
DTSTAMP:20260424T062829
CREATED:20210211T145811Z
LAST-MODIFIED:20210211T145811Z
UID:10000213-1622626200-1622629800@thechallengecoach.com
SUMMARY:Staying Connected
DESCRIPTION:
URL:https://thechallengecoach.com/event/staying-connected
LOCATION:Zoom Online
ATTACH;FMTTYPE=image/jpeg:https://thechallengecoach.com/wp-content/uploads/2021/01/Balancing-lifes-issues.jpg
END:VEVENT
BEGIN:VEVENT
DTSTART;VALUE=DATE:20210528
DTEND;VALUE=DATE:20210531
DTSTAMP:20260424T062829
CREATED:20201216T205335Z
LAST-MODIFIED:20210428T123712Z
UID:10000189-1622160000-1622419199@thechallengecoach.com
SUMMARY:NASAP Annual Conference
DESCRIPTION:Workshop 1 -  Courage and Resilience: How to stay SANE in INSANE times - May 28th @1:45pm EST \nWorkshop 2 -  Adlerian Coaching in Practice - May 30th @9am EST
URL:https://thechallengecoach.com/event/nasap-annual-conference
LOCATION:The Historic Pfister Hotel\, 424 E Wisconsin Ave\, Milwaukee\, WI\, 53202\, United States
ATTACH;FMTTYPE=image/png:https://thechallengecoach.com/wp-content/uploads/2020/10/NASAP-logo.png
END:VEVENT
BEGIN:VEVENT
DTSTART;TZID=America/New_York:20210525T110000
DTEND;TZID=America/New_York:20210525T120000
DTSTAMP:20260424T062829
CREATED:20210211T145537Z
LAST-MODIFIED:20210211T145537Z
UID:10000212-1621940400-1621944000@thechallengecoach.com
SUMMARY:Moving Again
DESCRIPTION:
URL:https://thechallengecoach.com/event/moving-again
LOCATION:Zoom Online
ATTACH;FMTTYPE=image/png:https://thechallengecoach.com/wp-content/uploads/2020/10/netexpat-logo.png
END:VEVENT
BEGIN:VEVENT
DTSTART;TZID=America/New_York:20210520T200000
DTEND;TZID=America/New_York:20210520T210000
DTSTAMP:20260424T062829
CREATED:20210203T135459Z
LAST-MODIFIED:20210203T140021Z
UID:10000197-1621540800-1621544400@thechallengecoach.com
SUMMARY:“Pulling Back the Coaching Curtain: How Do Coaches Think?” FREE Coaching Webinar
DESCRIPTION:
URL:https://thechallengecoach.com/event/pulling-back-the-coaching-curtain-how-do-coaches-think-free-coaching-webinar-2
LOCATION:Zoom Online
ATTACH;FMTTYPE=image/png:https://thechallengecoach.com/wp-content/uploads/2020/12/TLC-Logo.png
END:VEVENT
BEGIN:VEVENT
DTSTART;TZID=America/New_York:20210519T120000
DTEND;TZID=America/New_York:20210519T130000
DTSTAMP:20260424T062829
CREATED:20210211T145323Z
LAST-MODIFIED:20210211T145424Z
UID:10000211-1621425600-1621429200@thechallengecoach.com
SUMMARY:I’m at my Wits’ Ends: Managing Anger
DESCRIPTION:
URL:https://thechallengecoach.com/event/im-at-my-wits-ends-managing-anger
LOCATION:Zoom Online
ATTACH;FMTTYPE=image/png:https://thechallengecoach.com/wp-content/uploads/2020/10/logo-footer.png
END:VEVENT
BEGIN:VEVENT
DTSTART;TZID=America/New_York:20210517T180000
DTEND;TZID=America/New_York:20210517T190000
DTSTAMP:20260424T062829
CREATED:20210211T145129Z
LAST-MODIFIED:20210211T145129Z
UID:10000210-1621274400-1621278000@thechallengecoach.com
SUMMARY:ACC/PCC Mentoring Session
DESCRIPTION:
URL:https://thechallengecoach.com/event/acc-pcc-mentoring-session
LOCATION:Zoom Online
ATTACH;FMTTYPE=image/png:https://thechallengecoach.com/wp-content/uploads/2020/10/logo_big.png
END:VEVENT
BEGIN:VEVENT
DTSTART;TZID=America/New_York:20210516T090000
DTEND;TZID=America/New_York:20210519T160000
DTSTAMP:20260424T062829
CREATED:20210211T144934Z
LAST-MODIFIED:20210211T144934Z
UID:10000209-1621155600-1621440000@thechallengecoach.com
SUMMARY:Conversation Among Masters Coaching Conference
DESCRIPTION:
URL:https://thechallengecoach.com/event/conversation-among-masters-coaching-conference
LOCATION:Zoom Online
ATTACH;FMTTYPE=image/png:https://thechallengecoach.com/wp-content/uploads/2021/02/CAM-Logo-2021-Logo-virtual-WEB-1200px-1-1024x434-1.png
END:VEVENT
BEGIN:VEVENT
DTSTART;TZID=America/New_York:20210513T133000
DTEND;TZID=America/New_York:20210513T143000
DTSTAMP:20260424T062829
CREATED:20210211T144621Z
LAST-MODIFIED:20210211T151219Z
UID:10000208-1620912600-1620916200@thechallengecoach.com
SUMMARY:Tips for Supporting Others
DESCRIPTION:
URL:https://thechallengecoach.com/event/tips-for-supporting-others
LOCATION:Zoom Online
ATTACH;FMTTYPE=image/jpeg:https://thechallengecoach.com/wp-content/uploads/2021/01/Balancing-lifes-issues.jpg
END:VEVENT
BEGIN:VEVENT
DTSTART;TZID=America/New_York:20210505T120000
DTEND;TZID=America/New_York:20210505T130000
DTSTAMP:20260424T062829
CREATED:20210428T102618Z
LAST-MODIFIED:20210428T103612Z
UID:10000170-1620216000-1620219600@thechallengecoach.com
SUMMARY:PQ Program FREE Launch Webinar
DESCRIPTION:Do you want to learn how to THRIVE in life? \nJoin a gym for your brain! \nPositive Intelligence is the science and practice of developing mastery over your own mind so you can reach your full potential for both happiness and success. \nJoin this ***FREE*** webinar to learn more about this fascinating new method of re-programming and strengthening your brain to become a better\, stronger\, happier you. \nView full details \nREGISTER NOW!
URL:https://thechallengecoach.com/event/pq-program-free-launch-webinar-3
LOCATION:Zoom Online
ATTACH;FMTTYPE=image/jpeg:https://thechallengecoach.com/wp-content/uploads/2021/03/unnamed.jpg
END:VEVENT
BEGIN:VEVENT
DTSTART;TZID=America/New_York:20210505T093000
DTEND;TZID=America/New_York:20210505T223000
DTSTAMP:20260424T062829
CREATED:20210211T144502Z
LAST-MODIFIED:20210211T144502Z
UID:10000207-1620207000-1620253800@thechallengecoach.com
SUMMARY:Gratitude
DESCRIPTION:
URL:https://thechallengecoach.com/event/gratitude
LOCATION:Zoom Online
ATTACH;FMTTYPE=image/jpeg:https://thechallengecoach.com/wp-content/uploads/2021/01/Balancing-lifes-issues.jpg
END:VEVENT
BEGIN:VEVENT
DTSTART;VALUE=DATE:20210505
DTEND;VALUE=DATE:20210603
DTSTAMP:20260424T062829
CREATED:20210504T150133Z
LAST-MODIFIED:20210504T154148Z
UID:10000174-1620172800-1622678399@thechallengecoach.com
SUMMARY:May Encouragement - 4-Week Online Class
DESCRIPTION:
URL:https://thechallengecoach.com/event/may-encouragement-4-week-online-class
LOCATION:Zoom Online
ATTACH;FMTTYPE=image/png:https://thechallengecoach.com/wp-content/uploads/2020/10/logo-footer.png
END:VEVENT
BEGIN:VEVENT
DTSTART;TZID=America/New_York:20210429T200000
DTEND;TZID=America/New_York:20210429T200000
DTSTAMP:20260424T062829
CREATED:20210428T105654Z
LAST-MODIFIED:20210428T125052Z
UID:10000171-1619726400-1619726400@thechallengecoach.com
SUMMARY:Joue Ta Vie IKIGAI Group Coaching (French)
DESCRIPTION:
URL:https://thechallengecoach.com/event/joue-ta-vie-ikigai-group-coaching-french
LOCATION:Zoom Online
ATTACH;FMTTYPE=image/png:https://thechallengecoach.com/wp-content/uploads/2020/11/1cropped-cropped-LOGO-CMJN-5.png
END:VEVENT
BEGIN:VEVENT
DTSTART;TZID=America/New_York:20210429T120000
DTEND;TZID=America/New_York:20210429T123000
DTSTAMP:20260424T062829
CREATED:20210324T193903Z
LAST-MODIFIED:20210324T194159Z
UID:10000167-1619697600-1619699400@thechallengecoach.com
SUMMARY:PEP Redefining Discipline: A 4-Week Online Class Single Parent Edition
DESCRIPTION:
URL:https://thechallengecoach.com/event/pep-redefining-discipline-a-4-week-online-class-single-parent-edition-4
LOCATION:Zoom Online
ATTACH;FMTTYPE=image/png:https://thechallengecoach.com/wp-content/uploads/2020/10/logo-footer.png
END:VEVENT
BEGIN:VEVENT
DTSTART;TZID=America/New_York:20210422T120000
DTEND;TZID=America/New_York:20210422T123000
DTSTAMP:20260424T062829
CREATED:20210324T193731Z
LAST-MODIFIED:20210324T194321Z
UID:10000166-1619092800-1619094600@thechallengecoach.com
SUMMARY:PEP Redefining Discipline: A 4-Week Online Class Single Parent Edition
DESCRIPTION:
URL:https://thechallengecoach.com/event/pep-redefining-discipline-a-4-week-online-class-single-parent-edition-3
LOCATION:Zoom Online
ATTACH;FMTTYPE=image/png:https://thechallengecoach.com/wp-content/uploads/2020/10/logo-footer.png
END:VEVENT
BEGIN:VEVENT
DTSTART;TZID=America/New_York:20210421T120000
DTEND;TZID=America/New_York:20210421T130000
DTSTAMP:20260424T062829
CREATED:20210324T200726Z
LAST-MODIFIED:20210417T012731Z
UID:10000169-1619006400-1619010000@thechallengecoach.com
SUMMARY:PQ Program FREE Launch Webinar
DESCRIPTION:Do you want to learn how to THRIVE in life? \nJoin a gym for your brain! \nPositive Intelligence is the science and practice of developing mastery over your own mind so you can reach your full potential for both happiness and success. \nJoin this ***FREE*** webinar next week to learn more about this fascinating new method of re-programming and strengthening your brain to become a better\, stronger\, happier you. \nView full details \nREGISTER NOW!
URL:https://thechallengecoach.com/event/pq-program-free-launch-webinar-2
LOCATION:Zoom Online
ATTACH;FMTTYPE=image/jpeg:https://thechallengecoach.com/wp-content/uploads/2021/03/unnamed.jpg
END:VEVENT
BEGIN:VEVENT
DTSTART;TZID=America/New_York:20210420T200000
DTEND;TZID=America/New_York:20210420T210000
DTSTAMP:20260424T062829
CREATED:20210324T200559Z
LAST-MODIFIED:20210417T012724Z
UID:10000168-1618948800-1618952400@thechallengecoach.com
SUMMARY:PQ Program FREE Launch Webinar
DESCRIPTION:Do you want to learn how to THRIVE in life? \nJoin a gym for your brain! \nPositive Intelligence is the science and practice of developing mastery over your own mind so you can reach your full potential for both happiness and success. \nJoin this ***FREE*** webinar next week to learn more about this fascinating new method of re-programming and strengthening your brain to become a better\, stronger\, happier you. \nView full details \nREGISTER NOW!
URL:https://thechallengecoach.com/event/pq-program-free-launch-webinar
LOCATION:Zoom Online
ATTACH;FMTTYPE=image/jpeg:https://thechallengecoach.com/wp-content/uploads/2021/03/unnamed.jpg
END:VEVENT
BEGIN:VEVENT
DTSTART;TZID=America/New_York:20210415T200000
DTEND;TZID=America/New_York:20210415T210000
DTSTAMP:20260424T062829
CREATED:20210203T135952Z
LAST-MODIFIED:20210324T195257Z
UID:10000199-1618516800-1618520400@thechallengecoach.com
SUMMARY:“Pulling Back the Coaching Curtain: How Do Coaches Think?” FREE Coaching Webinar
DESCRIPTION:
URL:https://thechallengecoach.com/event/pulling-back-the-coaching-curtain-how-do-coaches-think-free-coaching-webinar-4
LOCATION:Zoom Online
ATTACH;FMTTYPE=image/png:https://thechallengecoach.com/wp-content/uploads/2020/12/TLC-Logo.png
END:VEVENT
BEGIN:VEVENT
DTSTART;TZID=America/New_York:20210415T133000
DTEND;TZID=America/New_York:20210415T143000
DTSTAMP:20260424T062829
CREATED:20210211T142650Z
LAST-MODIFIED:20210211T151020Z
UID:10000206-1618493400-1618497000@thechallengecoach.com
SUMMARY:Best Practices for Working Remote/From Home
DESCRIPTION:
URL:https://thechallengecoach.com/event/best-practices-for-working-remote-from-home
LOCATION:Zoom Online
ATTACH;FMTTYPE=image/jpeg:https://thechallengecoach.com/wp-content/uploads/2021/01/Balancing-lifes-issues.jpg
END:VEVENT
BEGIN:VEVENT
DTSTART;TZID=America/New_York:20210415T080000
DTEND;TZID=America/New_York:20210415T170000
DTSTAMP:20260424T062829
CREATED:20210324T193541Z
LAST-MODIFIED:20210324T194243Z
UID:10000225-1618473600-1618506000@thechallengecoach.com
SUMMARY:PEP Redefining Discipline: A 4-Week Online Class Single Parent Edition
DESCRIPTION:
URL:https://thechallengecoach.com/event/pep-redefining-discipline-a-4-week-online-class-single-parent-edition-2
LOCATION:Zoom Online
ATTACH;FMTTYPE=image/png:https://thechallengecoach.com/wp-content/uploads/2020/10/logo-footer.png
END:VEVENT
BEGIN:VEVENT
DTSTART;TZID=America/New_York:20210409T120000
DTEND;TZID=America/New_York:20210409T123000
DTSTAMP:20260424T062829
CREATED:20210324T192227Z
LAST-MODIFIED:20210324T195001Z
UID:10000223-1617969600-1617971400@thechallengecoach.com
SUMMARY:Mend Your Mental Facebook Live
DESCRIPTION:
URL:https://thechallengecoach.com/event/mend-your-mental-facebook-live-2
LOCATION:Facebook Live
ATTACH;FMTTYPE=image/jpeg:https://thechallengecoach.com/wp-content/uploads/2021/03/MendYourMental_Logo_web.jpg
END:VEVENT
BEGIN:VEVENT
DTSTART;TZID=America/New_York:20210408T080000
DTEND;TZID=America/New_York:20210408T120000
DTSTAMP:20260424T062829
CREATED:20210324T193347Z
LAST-MODIFIED:20210324T194353Z
UID:10000224-1617868800-1617883200@thechallengecoach.com
SUMMARY:PEP Redefining Discipline: A 4-Week Online Class Single Parent Edition
DESCRIPTION:
URL:https://thechallengecoach.com/event/pep-redefining-discipline-a-4-week-online-class-single-parent-edition
LOCATION:Zoom Online
ATTACH;FMTTYPE=image/png:https://thechallengecoach.com/wp-content/uploads/2020/10/logo-footer.png
END:VEVENT
BEGIN:VEVENT
DTSTART;TZID=America/New_York:20210331T140000
DTEND;TZID=America/New_York:20210331T150000
DTSTAMP:20260424T062829
CREATED:20210324T192112Z
LAST-MODIFIED:20210324T194928Z
UID:10000222-1617199200-1617202800@thechallengecoach.com
SUMMARY:Mend Your Mental Facebook Live
DESCRIPTION:
URL:https://thechallengecoach.com/event/mend-your-mental-facebook-live
LOCATION:Facebook Live
ATTACH;FMTTYPE=image/jpeg:https://thechallengecoach.com/wp-content/uploads/2021/03/MendYourMental_Logo_web.jpg
END:VEVENT
END:VCALENDAR