BEGIN:VCALENDAR
VERSION:2.0
PRODID:-//The Challenge Coach - ECPv6.15.20//NONSGML v1.0//EN
CALSCALE:GREGORIAN
METHOD:PUBLISH
X-WR-CALNAME:The Challenge Coach
X-ORIGINAL-URL:https://thechallengecoach.com
X-WR-CALDESC:Events for The Challenge Coach
REFRESH-INTERVAL;VALUE=DURATION:PT1H
X-Robots-Tag:noindex
X-PUBLISHED-TTL:PT1H
BEGIN:VTIMEZONE
TZID:America/New_York
BEGIN:DAYLIGHT
TZOFFSETFROM:-0500
TZOFFSETTO:-0400
TZNAME:EDT
DTSTART:20220313T070000
END:DAYLIGHT
BEGIN:STANDARD
TZOFFSETFROM:-0400
TZOFFSETTO:-0500
TZNAME:EST
DTSTART:20221106T060000
END:STANDARD
BEGIN:DAYLIGHT
TZOFFSETFROM:-0500
TZOFFSETTO:-0400
TZNAME:EDT
DTSTART:20230312T070000
END:DAYLIGHT
BEGIN:STANDARD
TZOFFSETFROM:-0400
TZOFFSETTO:-0500
TZNAME:EST
DTSTART:20231105T060000
END:STANDARD
BEGIN:DAYLIGHT
TZOFFSETFROM:-0500
TZOFFSETTO:-0400
TZNAME:EDT
DTSTART:20240310T070000
END:DAYLIGHT
BEGIN:STANDARD
TZOFFSETFROM:-0400
TZOFFSETTO:-0500
TZNAME:EST
DTSTART:20241103T060000
END:STANDARD
BEGIN:DAYLIGHT
TZOFFSETFROM:-0500
TZOFFSETTO:-0400
TZNAME:EDT
DTSTART:20250309T070000
END:DAYLIGHT
BEGIN:STANDARD
TZOFFSETFROM:-0400
TZOFFSETTO:-0500
TZNAME:EST
DTSTART:20251102T060000
END:STANDARD
BEGIN:DAYLIGHT
TZOFFSETFROM:-0500
TZOFFSETTO:-0400
TZNAME:EDT
DTSTART:20260308T070000
END:DAYLIGHT
BEGIN:STANDARD
TZOFFSETFROM:-0400
TZOFFSETTO:-0500
TZNAME:EST
DTSTART:20261101T060000
END:STANDARD
END:VTIMEZONE
BEGIN:VEVENT
DTSTART;TZID=America/New_York:20250514T200000
DTEND;TZID=America/New_York:20250514T210000
DTSTAMP:20260424T122016
CREATED:20250129T175902Z
LAST-MODIFIED:20250320T105428Z
UID:10000301-1747252800-1747256400@thechallengecoach.com
SUMMARY:FREE Transformative and Leadership Coaching Webinar
DESCRIPTION:
URL:https://thechallengecoach.com/event/free-transformative-and-leadership-coaching-webinar
LOCATION:Zoom Online
ATTACH;FMTTYPE=image/png:https://thechallengecoach.com/wp-content/uploads/2025/01/2025-Logo-recolour-e1762139675609.png
END:VEVENT
BEGIN:VEVENT
DTSTART;TZID=America/New_York:20250514T130000
DTEND;TZID=America/New_York:20250514T140000
DTSTAMP:20260424T122016
CREATED:20250311T154055Z
LAST-MODIFIED:20250429T162953Z
UID:10000306-1747227600-1747231200@thechallengecoach.com
SUMMARY:FREE USA Encouragement Circle
DESCRIPTION:Join me on the second Wednesday of the month at 1PM EST for a FREE 60-minute Weekly Encouragement Circle—a space to recharge\, reignite your courage and refocus. \nWhat you will receive in the Circle of Encouragement: \nA Midweek Check-in – Pause\, breathe\, and center yourself.\nEncouragement Strategies – Learn powerful tools to shift your mindset and stay motivated.\nCommunity & Connection – Be part of an uplifting space where support and inspiration fuel your week.\nMore Courage & Hope – Walk away feeling stronger\, more focused\, and ready to take on what’s ahead. \nThis is for YOU if: \nYou’re feeling despondent\, despairing\, angry\, hopeless\, or helpless about the current circumstances in our country.\nYou’re navigating challenges and need a morale boost.\nYou want to stay aligned with\, and focused on\, your purpose (vs. being distracted.)\nYou love connecting with like-minded\, forward-thinking\, kind and supportive fellow Americans. \nLive & Online | Free to Attend\nSign up now & bring a friend! \nRegister here
URL:https://thechallengecoach.com/event/free-60-minute-weekly-encouragement-circle-4
LOCATION:Zoom Online
ATTACH;FMTTYPE=image/png:https://thechallengecoach.com/wp-content/uploads/2025/03/Email-signature.png
END:VEVENT
BEGIN:VEVENT
DTSTART;TZID=America/New_York:20250509T120000
DTEND;TZID=America/New_York:20250509T130000
DTSTAMP:20260424T122016
CREATED:20250429T162806Z
LAST-MODIFIED:20250429T162806Z
UID:10000311-1746792000-1746795600@thechallengecoach.com
SUMMARY:Strengthening your mental fitness | Free PQ Webinar
DESCRIPTION:
URL:https://thechallengecoach.com/event/strengthening-your-mental-fitness-free-pq-webinar
LOCATION:Zoom Online
ATTACH;FMTTYPE=image/png:https://thechallengecoach.com/wp-content/uploads/2025/03/Email-signature.png
END:VEVENT
BEGIN:VEVENT
DTSTART;TZID=America/New_York:20250416T080000
DTEND;TZID=America/New_York:20250416T090000
DTSTAMP:20260424T122016
CREATED:20250129T175741Z
LAST-MODIFIED:20250320T105503Z
UID:10000300-1744790400-1744794000@thechallengecoach.com
SUMMARY:FREE Transformative and Leadership Coaching Webinar with Caroline Bernhard Lanier
DESCRIPTION:
URL:https://thechallengecoach.com/event/free-transformative-and-leadership-coaching-webinar-with-caroline-bernhard-lanier
LOCATION:Zoom Online
ATTACH;FMTTYPE=image/png:https://thechallengecoach.com/wp-content/uploads/2025/01/2025-Logo-recolour-e1762139675609.png
END:VEVENT
BEGIN:VEVENT
DTSTART;TZID=America/New_York:20250411T120000
DTEND;TZID=America/New_York:20250411T130000
DTSTAMP:20260424T122016
CREATED:20250325T172438Z
LAST-MODIFIED:20250325T172438Z
UID:10000310-1744372800-1744376400@thechallengecoach.com
SUMMARY:FREE LIVE INTRODUCTION TO PQ
DESCRIPTION:
URL:https://thechallengecoach.com/event/free-live-introduction-to-pq
LOCATION:Zoom Online
ATTACH;FMTTYPE=image/png:https://thechallengecoach.com/wp-content/uploads/2025/03/Email-signature.png
END:VEVENT
BEGIN:VEVENT
DTSTART;TZID=America/New_York:20250402T140000
DTEND;TZID=America/New_York:20250402T150000
DTSTAMP:20260424T122016
CREATED:20250313T135431Z
LAST-MODIFIED:20250313T135431Z
UID:10000309-1743602400-1743606000@thechallengecoach.com
SUMMARY:FREE World Encouragement Circle
DESCRIPTION:This is a FREE 60-minute Encouragement Session—a dedicated space to reset your mindset\, refuel your energy\, and step forward with courage. \nWhat to Expect: \n- A Midweek Reset \n- Take a breath\, check in\, and realign. \n- Encouragement Strategies \n- Practical tools to stay resilient and motivated. \n- Community & Connection \n- A space where like-minded individuals lift each other up. \n- A Confidence Boost \n– Walk away feeling stronger\, inspired\, and ready to tackle what’s next. \nThis is for YOU if: \n✔ You’re navigating challenges and could use a positive reset. \n✔ You want to stay aligned with your goals and purpose. \n✔ You thrive in a supportive\, forward-thinking community.
URL:https://thechallengecoach.com/event/free-world-encouragement-circle-3
LOCATION:Zoom Online
ATTACH;FMTTYPE=image/png:https://thechallengecoach.com/wp-content/uploads/2025/03/Email-signature.png
END:VEVENT
BEGIN:VEVENT
DTSTART;TZID=America/New_York:20250326T140000
DTEND;TZID=America/New_York:20250326T150000
DTSTAMP:20260424T122016
CREATED:20250313T134948Z
LAST-MODIFIED:20250313T134948Z
UID:10000308-1742997600-1743001200@thechallengecoach.com
SUMMARY:FREE World Encouragement Circle
DESCRIPTION:This is a FREE 60-minute Encouragement Session—a dedicated space to reset your mindset\, refuel your energy\, and step forward with courage. \nWhat to Expect: \n- A Midweek Reset \n- Take a breath\, check in\, and realign. \n- Encouragement Strategies \n- Practical tools to stay resilient and motivated. \n- Community & Connection \n- A space where like-minded individuals lift each other up. \n- A Confidence Boost \n– Walk away feeling stronger\, inspired\, and ready to tackle what’s next. \nThis is for YOU if: \n✔ You’re navigating challenges and could use a positive reset. \n✔ You want to stay aligned with your goals and purpose. \n✔ You thrive in a supportive\, forward-thinking community.
URL:https://thechallengecoach.com/event/free-world-encouragement-circle-2
LOCATION:Zoom Online
ATTACH;FMTTYPE=image/png:https://thechallengecoach.com/wp-content/uploads/2025/03/Email-signature.png
END:VEVENT
BEGIN:VEVENT
DTSTART;TZID=America/New_York:20250326T130000
DTEND;TZID=America/New_York:20250326T140000
DTSTAMP:20260424T122016
CREATED:20250311T153918Z
LAST-MODIFIED:20250313T134826Z
UID:10000305-1742994000-1742997600@thechallengecoach.com
SUMMARY:FREE USA Encouragement Circle
DESCRIPTION:Join me every Wednesday at 1PM EST for a FREE 60-minute Weekly Encouragement Circle—a space to recharge\, reignite your courage and refocus. \nWhat you will receive in the Circle of Encouragement: \nA Midweek Check-in – Pause\, breathe\, and center yourself.\nEncouragement Strategies – Learn powerful tools to shift your mindset and stay motivated.\nCommunity & Connection – Be part of an uplifting space where support and inspiration fuel your week.\nMore Courage & Hope – Walk away feeling stronger\, more focused\, and ready to take on what’s ahead. \nThis is for YOU if: \nYou’re feeling despondent\, despairing\, angry\, hopeless\, or helpless about the current circumstances in our country.\nYou’re navigating challenges and need a morale boost.\nYou want to stay aligned with\, and focused on\, your purpose (vs. being distracted.)\nYou love connecting with like-minded\, forward-thinking\, kind and supportive fellow Americans. \nLive & Online | Free to Attend\nSign up now & bring a friend! \nRegister here
URL:https://thechallengecoach.com/event/free-60-minute-weekly-encouragement-circle-3
LOCATION:Zoom Online
ATTACH;FMTTYPE=image/png:https://thechallengecoach.com/wp-content/uploads/2025/03/Email-signature.png
END:VEVENT
BEGIN:VEVENT
DTSTART;TZID=America/New_York:20250320T103000
DTEND;TZID=America/New_York:20250320T120000
DTSTAMP:20260424T122016
CREATED:20250226T152420Z
LAST-MODIFIED:20250226T152420Z
UID:10000302-1742466600-1742472000@thechallengecoach.com
SUMMARY:Parenting Club | “Positive Parenting”: What is it?
DESCRIPTION:
URL:https://thechallengecoach.com/event/parenting-club-positive-parenting-what-is-it
LOCATION:TBC
ATTACH;FMTTYPE=image/png:https://thechallengecoach.com/wp-content/uploads/2023/02/WAA.png
END:VEVENT
BEGIN:VEVENT
DTSTART;TZID=America/New_York:20250319T140000
DTEND;TZID=America/New_York:20250319T150000
DTSTAMP:20260424T122016
CREATED:20250313T134753Z
LAST-MODIFIED:20250313T134753Z
UID:10000307-1742392800-1742396400@thechallengecoach.com
SUMMARY:FREE World Encouragement Circle
DESCRIPTION:This is a FREE 60-minute Encouragement Session—a dedicated space to reset your mindset\, refuel your energy\, and step forward with courage. \nWhat to Expect: \n- A Midweek Reset \n- Take a breath\, check in\, and realign. \n- Encouragement Strategies \n- Practical tools to stay resilient and motivated. \n- Community & Connection \n- A space where like-minded individuals lift each other up. \n- A Confidence Boost \n– Walk away feeling stronger\, inspired\, and ready to tackle what’s next. \nThis is for YOU if: \n✔ You’re navigating challenges and could use a positive reset. \n✔ You want to stay aligned with your goals and purpose. \n✔ You thrive in a supportive\, forward-thinking community.
URL:https://thechallengecoach.com/event/free-world-encouragement-circle
LOCATION:Zoom Online
ATTACH;FMTTYPE=image/png:https://thechallengecoach.com/wp-content/uploads/2025/03/Email-signature.png
END:VEVENT
BEGIN:VEVENT
DTSTART;TZID=America/New_York:20250319T130000
DTEND;TZID=America/New_York:20250319T140000
DTSTAMP:20260424T122016
CREATED:20250311T153815Z
LAST-MODIFIED:20250313T134834Z
UID:10000304-1742389200-1742392800@thechallengecoach.com
SUMMARY:FREE USA Encouragement Circle
DESCRIPTION:Join me every Wednesday at 1PM EST for a FREE 60-minute Weekly Encouragement Circle—a space to recharge\, reignite your courage and refocus. \nWhat you will receive in the Circle of Encouragement: \nA Midweek Check-in – Pause\, breathe\, and center yourself.\nEncouragement Strategies – Learn powerful tools to shift your mindset and stay motivated.\nCommunity & Connection – Be part of an uplifting space where support and inspiration fuel your week.\nMore Courage & Hope – Walk away feeling stronger\, more focused\, and ready to take on what’s ahead. \nThis is for YOU if: \nYou’re feeling despondent\, despairing\, angry\, hopeless\, or helpless about the current circumstances in our country.\nYou’re navigating challenges and need a morale boost.\nYou want to stay aligned with\, and focused on\, your purpose (vs. being distracted.)\nYou love connecting with like-minded\, forward-thinking\, kind and supportive fellow Americans. \nLive & Online | Free to Attend\nSign up now & bring a friend! \nRegister here
URL:https://thechallengecoach.com/event/free-60-minute-weekly-encouragement-circle-2
LOCATION:Zoom Online
ATTACH;FMTTYPE=image/png:https://thechallengecoach.com/wp-content/uploads/2025/03/Email-signature.png
END:VEVENT
BEGIN:VEVENT
DTSTART;TZID=America/New_York:20250312T130000
DTEND;TZID=America/New_York:20250312T140000
DTSTAMP:20260424T122016
CREATED:20250311T153628Z
LAST-MODIFIED:20250313T134841Z
UID:10000303-1741784400-1741788000@thechallengecoach.com
SUMMARY:FREE USA Encouragement Circle
DESCRIPTION:Join me every Wednesday at 1PM EST for a FREE 60-minute Weekly Encouragement Circle—a space to recharge\, reignite your courage and refocus. \nWhat you will receive in the Circle of Encouragement: \nA Midweek Check-in – Pause\, breathe\, and center yourself.\nEncouragement Strategies – Learn powerful tools to shift your mindset and stay motivated.\nCommunity & Connection – Be part of an uplifting space where support and inspiration fuel your week.\nMore Courage & Hope – Walk away feeling stronger\, more focused\, and ready to take on what’s ahead. \nThis is for YOU if: \nYou’re feeling despondent\, despairing\, angry\, hopeless\, or helpless about the current circumstances in our country.\nYou’re navigating challenges and need a morale boost.\nYou want to stay aligned with\, and focused on\, your purpose (vs. being distracted.)\nYou love connecting with like-minded\, forward-thinking\, kind and supportive fellow Americans. \nLive & Online | Free to Attend\nSign up now & bring a friend! \nRegister here
URL:https://thechallengecoach.com/event/free-60-minute-weekly-encouragement-circle
LOCATION:Zoom Online
ATTACH;FMTTYPE=image/png:https://thechallengecoach.com/wp-content/uploads/2025/03/Email-signature.png
END:VEVENT
BEGIN:VEVENT
DTSTART;TZID=America/New_York:20250305T120000
DTEND;TZID=America/New_York:20250305T130000
DTSTAMP:20260424T122016
CREATED:20250129T175600Z
LAST-MODIFIED:20250129T175600Z
UID:10000299-1741176000-1741179600@thechallengecoach.com
SUMMARY:FREE Transformative and Leadership Coaching Webinar with Bengü Tekinalp
DESCRIPTION:
URL:https://thechallengecoach.com/event/free-transformative-and-leadership-coaching-webinar-with-bengu-tekinalp
LOCATION:Zoom Online
ATTACH;FMTTYPE=image/png:https://thechallengecoach.com/wp-content/uploads/2023/02/TLC-Logo.png
END:VEVENT
BEGIN:VEVENT
DTSTART;TZID=America/New_York:20250205T120000
DTEND;TZID=America/New_York:20250205T130000
DTSTAMP:20260424T122016
CREATED:20250129T175339Z
LAST-MODIFIED:20250129T175339Z
UID:10000298-1738756800-1738760400@thechallengecoach.com
SUMMARY:FREE Transformative and Leadership Coaching Webinar with Kimberly Dailey
DESCRIPTION:
URL:https://thechallengecoach.com/event/free-transformative-and-leadership-coaching-webinar-with-kimberly-dailey
LOCATION:Zoom Online
ATTACH;FMTTYPE=image/png:https://thechallengecoach.com/wp-content/uploads/2023/02/TLC-Logo.png
END:VEVENT
BEGIN:VEVENT
DTSTART;TZID=America/New_York:20250115T190000
DTEND;TZID=America/New_York:20250115T200000
DTSTAMP:20260424T122016
CREATED:20241120T133641Z
LAST-MODIFIED:20241120T133641Z
UID:10000297-1736967600-1736971200@thechallengecoach.com
SUMMARY:PARENT EDUCATION SERIES: TEAMWORK WITH YOUR TEEN
DESCRIPTION:
URL:https://thechallengecoach.com/event/parent-education-series-teamwork-with-your-teen
ATTACH;FMTTYPE=image/jpeg:https://thechallengecoach.com/wp-content/uploads/2024/11/Nora-School.jpg
END:VEVENT
BEGIN:VEVENT
DTSTART;TZID=America/New_York:20241210T200000
DTEND;TZID=America/New_York:20241210T210000
DTSTAMP:20260424T122016
CREATED:20240926T110014Z
LAST-MODIFIED:20240926T110014Z
UID:10000294-1733860800-1733864400@thechallengecoach.com
SUMMARY:FREE TRANSFORMATIVE LEADERSHIP & COACHING WEBINAR
DESCRIPTION:
URL:https://thechallengecoach.com/event/free-transformative-leadership-coaching-webinar-2
LOCATION:Zoom Online
ATTACH;FMTTYPE=image/png:https://thechallengecoach.com/wp-content/uploads/2023/02/TLC-Logo.png
END:VEVENT
BEGIN:VEVENT
DTSTART;TZID=America/New_York:20241205T093000
DTEND;TZID=America/New_York:20241205T113000
DTSTAMP:20260424T122016
CREATED:20241120T133500Z
LAST-MODIFIED:20241120T133500Z
UID:10000296-1733391000-1733398200@thechallengecoach.com
SUMMARY:DIFFERENCES CULTURELLES FRANCO-AMERICAINES
DESCRIPTION:
URL:https://thechallengecoach.com/event/differences-culturelles-franco-americaines
ATTACH;FMTTYPE=image/jpeg:https://thechallengecoach.com/wp-content/uploads/2024/11/JNC.jpg
END:VEVENT
BEGIN:VEVENT
DTSTART;TZID=America/New_York:20241114T173000
DTEND;TZID=America/New_York:20241114T183000
DTSTAMP:20260424T122016
CREATED:20241029T172749Z
LAST-MODIFIED:20241029T174010Z
UID:10000295-1731605400-1731609000@thechallengecoach.com
SUMMARY:Similarities and Differences between (Adlerian) Coaching and Therapy - TRT TAP TALK
DESCRIPTION:
URL:https://thechallengecoach.com/event/similarities-and-differences-between-adlerian-coaching-and-therapy
LOCATION:Zoom Online
ATTACH;FMTTYPE=image/png:https://thechallengecoach.com/wp-content/uploads/2023/02/WebsiteLogowithtextcopy.png
END:VEVENT
BEGIN:VEVENT
DTSTART;TZID=America/New_York:20241108T090000
DTEND;TZID=America/New_York:20241108T120000
DTSTAMP:20260424T122016
CREATED:20240926T104658Z
LAST-MODIFIED:20241031T141614Z
UID:10000290-1731056400-1731067200@thechallengecoach.com
SUMMARY:WELLNESS WORKSHOP
DESCRIPTION:Join us for an immersive half-day Wellness Virtual Workshop on Friday\, November 8\, from 9 AM to 12 PM EST. \nWho it's for: Anyone feeling overwhelmed\, stressed\, or simply looking to prioritize their mental and physical well-being. Whether you’re managing work-life balance\, recovering from a health challenge\, or just seeking a self-care reset\, this workshop is designed to help you recharge and refocus. \nWhat You'll Learn: \n\nStress Management Techniques: Discover simple yet effective methods to manage stress and anxiety in your daily life.\nMindfulness & Meditation: Learn how to incorporate mindfulness practices to find calm in the chaos.\nSelf-Care Strategies: Explore actionable self-care tips that fit into your busy lifestyle\, allowing you to maintain balance and energy.\n\nWhy Attend? Bring your current stressors or wellness challenges to the session and leave with practical tools to improve your mental and physical well-being. This workshop will equip you with the skills to lead a healthier\, more balanced life\, ready to face life’s challenges with clarity and calm. \nDetails: \nCost: $350\nSpecial Discount: $300 with code SELFCARE50 \nDon’t miss this opportunity to invest in your well-being and take the first step towards a more peaceful\, balanced life. Secure your spot today HERE!
URL:https://thechallengecoach.com/event/wellness-workshop
LOCATION:Zoom Online
ATTACH;FMTTYPE=image/jpeg:https://thechallengecoach.com/wp-content/uploads/2023/02/The-Challenge-Coach-logo-RGB-small.jpg
END:VEVENT
BEGIN:VEVENT
DTSTART;TZID=America/New_York:20241107T200000
DTEND;TZID=America/New_York:20241128T210000
DTSTAMP:20260424T122016
CREATED:20240926T105825Z
LAST-MODIFIED:20240926T105825Z
UID:10000293-1731009600-1732827600@thechallengecoach.com
SUMMARY:"DISCIPLINE" - PARENTING MASTERCLASS
DESCRIPTION:
URL:https://thechallengecoach.com/event/discipline-parenting-masterclass
LOCATION:Zoom Online
ATTACH;FMTTYPE=image/png:https://thechallengecoach.com/wp-content/uploads/2023/02/logo-footer.png
END:VEVENT
BEGIN:VEVENT
DTSTART;TZID=America/New_York:20241030T123000
DTEND;TZID=America/New_York:20241030T133000
DTSTAMP:20260424T122016
CREATED:20240926T105625Z
LAST-MODIFIED:20240926T105625Z
UID:10000292-1730291400-1730295000@thechallengecoach.com
SUMMARY:FREE TRANSFORMATIVE LEADERSHIP & COACHING WEBINAR
DESCRIPTION:
URL:https://thechallengecoach.com/event/free-transformative-leadership-coaching-webinar
LOCATION:Zoom Online
ATTACH;FMTTYPE=image/png:https://thechallengecoach.com/wp-content/uploads/2023/02/TLC-Logo.png
END:VEVENT
BEGIN:VEVENT
DTSTART;TZID=America/New_York:20241023T200000
DTEND;TZID=America/New_York:20241023T210000
DTSTAMP:20260424T122016
CREATED:20240926T104844Z
LAST-MODIFIED:20240926T105420Z
UID:10000291-1729713600-1729717200@thechallengecoach.com
SUMMARY:SINGLE PARENTING WEBINAR
DESCRIPTION:
URL:https://thechallengecoach.com/event/single-parenting-webinar-2
LOCATION:Zoom Online
ATTACH;FMTTYPE=image/png:https://thechallengecoach.com/wp-content/uploads/2023/02/logo-footer.png
END:VEVENT
BEGIN:VEVENT
DTSTART;TZID=America/New_York:20241008T090000
DTEND;TZID=America/New_York:20241008T120000
DTSTAMP:20260424T122016
CREATED:20240926T100702Z
LAST-MODIFIED:20241006T121432Z
UID:10000289-1728378000-1728388800@thechallengecoach.com
SUMMARY:CONFLICT RESOLUTION SKILLS WORKSHOP
DESCRIPTION:Join us for an enriching half-day conflict resolution virtual workshop on Tuesday\, October 8\, from 9 AM to 12 PM EST. \nWho it's for:\nEveryone who might be currently experiencing conflicts\, or who would like to pre-empt future ones and learn how to become a better “life fencing partner”. This will address any type of conflict: personal (whether it be with your spouse\, children\, friends\, extended family)\, or professional (conflicts at work with co-workers\, managers\, or people working for you.) \nWhat You'll Learn:\nCalm Down Techniques: Master strategies to manage your emotions effectively. \nEffective Communication: Develop skills to communicate clearly and ensure your message is heard. \nProblem-Solving: Gain tools to approach and resolve conflicts constructively. \nWhy Attend?\nBring your real-life problems or conflicts to the session and leave with enhanced conflict resolution skills that you can apply immediately...and for the rest of time! This workshop will enable you to lead a conflict-free\, and therefore more peaceful\, life. \nDetails:\n\nCost: $350\n\nDon’t miss this opportunity to improve your conflict resolution capacity significantly. Secure your spot now and take the first step towards smoother\, more effective interactions.
URL:https://thechallengecoach.com/event/conflict-resolution-skills-workshop
LOCATION:Zoom Online
ATTACH;FMTTYPE=image/jpeg:https://thechallengecoach.com/wp-content/uploads/2023/02/The-Challenge-Coach-logo-RGB-small.jpg
END:VEVENT
BEGIN:VEVENT
DTSTART;TZID=America/New_York:20231019T120000
DTEND;TZID=America/New_York:20231207T130000
DTSTAMP:20260424T122016
CREATED:20230824T161759Z
LAST-MODIFIED:20230929T111935Z
UID:10000288-1697716800-1701954000@thechallengecoach.com
SUMMARY:3 Month Women's Group Coaching Program
DESCRIPTION:
URL:https://thechallengecoach.com/event/8-week-group-coaching-program
LOCATION:Zoom Online
ATTACH;FMTTYPE=image/jpeg:https://thechallengecoach.com/wp-content/uploads/2023/02/The-Challenge-Coach-logo-RGB-small.jpg
END:VEVENT
BEGIN:VEVENT
DTSTART;TZID=America/New_York:20231011T120000
DTEND;TZID=America/New_York:20231122T130000
DTSTAMP:20260424T122016
CREATED:20230824T161241Z
LAST-MODIFIED:20230824T161241Z
UID:10000287-1697025600-1700658000@thechallengecoach.com
SUMMARY:Positive Intelligence Fall Cohort
DESCRIPTION:
URL:https://thechallengecoach.com/event/positive-intelligence-fall-cohort
LOCATION:Zoom Online
ATTACH;FMTTYPE=image/jpeg:https://thechallengecoach.com/wp-content/uploads/2021/03/unnamed.jpg
END:VEVENT
BEGIN:VEVENT
DTSTART;TZID=America/New_York:20230927T120000
DTEND;TZID=America/New_York:20230927T130000
DTSTAMP:20260424T122016
CREATED:20230824T152917Z
LAST-MODIFIED:20230824T152917Z
UID:10000285-1695816000-1695819600@thechallengecoach.com
SUMMARY:Free Positive Intelligence Webinar
DESCRIPTION:
URL:https://thechallengecoach.com/event/free-positive-intelligence-webinar-3
LOCATION:Zoom Online
ATTACH;FMTTYPE=image/jpeg:https://thechallengecoach.com/wp-content/uploads/2023/02/The-Challenge-Coach-logo-RGB-small.jpg
END:VEVENT
BEGIN:VEVENT
DTSTART;TZID=America/New_York:20230926T200000
DTEND;TZID=America/New_York:20230926T210000
DTSTAMP:20260424T122016
CREATED:20230824T153119Z
LAST-MODIFIED:20230824T153119Z
UID:10000286-1695758400-1695762000@thechallengecoach.com
SUMMARY:Free Positive Intelligence Webinar
DESCRIPTION:
URL:https://thechallengecoach.com/event/free-positive-intelligence-webinar-4
LOCATION:Zoom Online
ATTACH;FMTTYPE=image/jpeg:https://thechallengecoach.com/wp-content/uploads/2023/02/The-Challenge-Coach-logo-RGB-small.jpg
END:VEVENT
BEGIN:VEVENT
DTSTART;TZID=America/New_York:20230620T130000
DTEND;TZID=America/New_York:20230620T140000
DTSTAMP:20260424T122016
CREATED:20230227T173429Z
LAST-MODIFIED:20230227T173429Z
UID:10000280-1687266000-1687269600@thechallengecoach.com
SUMMARY:Positive Intelligence Group Coaching Program
DESCRIPTION:
URL:https://thechallengecoach.com/event/positive-intelligence-group-coaching-program-7
LOCATION:Zoom Online
ATTACH;FMTTYPE=image/jpeg:https://thechallengecoach.com/wp-content/uploads/2023/02/The-Challenge-Coach-logo-RGB-small.jpg
END:VEVENT
BEGIN:VEVENT
DTSTART;TZID=America/New_York:20230613T130000
DTEND;TZID=America/New_York:20230613T140000
DTSTAMP:20260424T122016
CREATED:20230227T172630Z
LAST-MODIFIED:20230227T173318Z
UID:10000277-1686661200-1686664800@thechallengecoach.com
SUMMARY:Positive Intelligence Group Coaching Program
DESCRIPTION:
URL:https://thechallengecoach.com/event/positive-intelligence-group-coaching-program-4
LOCATION:Zoom Online
ATTACH;FMTTYPE=image/jpeg:https://thechallengecoach.com/wp-content/uploads/2023/02/The-Challenge-Coach-logo-RGB-small.jpg
END:VEVENT
BEGIN:VEVENT
DTSTART;TZID=America/New_York:20230606T130000
DTEND;TZID=America/New_York:20230606T140000
DTSTAMP:20260424T122016
CREATED:20230227T172903Z
LAST-MODIFIED:20230227T172903Z
UID:10000279-1686056400-1686060000@thechallengecoach.com
SUMMARY:Positive Intelligence Group Coaching Program
DESCRIPTION:
URL:https://thechallengecoach.com/event/positive-intelligence-group-coaching-program-6
LOCATION:Zoom Online
ATTACH;FMTTYPE=image/jpeg:https://thechallengecoach.com/wp-content/uploads/2023/02/The-Challenge-Coach-logo-RGB-small.jpg
END:VEVENT
END:VCALENDAR