BEGIN:VCALENDAR
VERSION:2.0
PRODID:-//The Challenge Coach - ECPv6.15.20//NONSGML v1.0//EN
CALSCALE:GREGORIAN
METHOD:PUBLISH
X-WR-CALNAME:The Challenge Coach
X-ORIGINAL-URL:https://thechallengecoach.com
X-WR-CALDESC:Events for The Challenge Coach
REFRESH-INTERVAL;VALUE=DURATION:PT1H
X-Robots-Tag:noindex
X-PUBLISHED-TTL:PT1H
BEGIN:VTIMEZONE
TZID:America/New_York
BEGIN:DAYLIGHT
TZOFFSETFROM:-0500
TZOFFSETTO:-0400
TZNAME:EDT
DTSTART:20250309T070000
END:DAYLIGHT
BEGIN:STANDARD
TZOFFSETFROM:-0400
TZOFFSETTO:-0500
TZNAME:EST
DTSTART:20251102T060000
END:STANDARD
BEGIN:DAYLIGHT
TZOFFSETFROM:-0500
TZOFFSETTO:-0400
TZNAME:EDT
DTSTART:20260308T070000
END:DAYLIGHT
BEGIN:STANDARD
TZOFFSETFROM:-0400
TZOFFSETTO:-0500
TZNAME:EST
DTSTART:20261101T060000
END:STANDARD
BEGIN:DAYLIGHT
TZOFFSETFROM:-0500
TZOFFSETTO:-0400
TZNAME:EDT
DTSTART:20270314T070000
END:DAYLIGHT
BEGIN:STANDARD
TZOFFSETFROM:-0400
TZOFFSETTO:-0500
TZNAME:EST
DTSTART:20271107T060000
END:STANDARD
END:VTIMEZONE
BEGIN:VEVENT
DTSTART;TZID=America/New_York:20260423T120000
DTEND;TZID=America/New_York:20260423T133000
DTSTAMP:20260423T193422
CREATED:20260223T171951Z
LAST-MODIFIED:20260224T195611Z
UID:10000511-1776945600-1776951000@thechallengecoach.com
SUMMARY:Courage in Practice | Group Coaching for Real Life
DESCRIPTION:What if courage isn’t something you’re born with — but something you practice? Most of us don’t struggle because we lack insight. We struggle because we default. We repeat the same patterns in work\, relationships\, and decisions — even when we know better. \nAfter the depth and momentum of the Courage to Change coaching group\, one thing became clear: people don’t just want change — they want the capacity to live differently in everyday life. \nSo this spring\, I’m opening a new group: \nThis is an 8-week experiential coaching group where we will work on: \nThe patterns you default to under pressure\nThe beliefs you formed early that still guide your decisions\nHow you pursue belonging\, significance\, and contribution\nThe real-life choices you’ve been postponing\nMoving from discouragement toward courage\nYou will leave with: \nClearer self-understanding\nA revised internal blueprint\nConcrete shifts you can practice immediately\nGreater steadiness in the face of everyday challenges\nLimited to 8 participants.  \nPrice: $799\nEarly bird before March 19: $599\nMinimum due for class: $199\nWe offer a “PAY WHAT YOU CAN” sliding scale. Please reach out to info@TheChallengeCoach.com if you’d like to take advantage of this offer. No questions asked. We will send you a separate payment option. \nIf you’re ready to work on the life you’re actually living — this group is for you.
URL:https://thechallengecoach.com/event/courage-in-practice-group-coaching-for-real-life/2026-04-23
LOCATION:Zoom Online
ATTACH;FMTTYPE=image/png:https://thechallengecoach.com/wp-content/uploads/2026/02/Courage-in-Practice.png
END:VEVENT
END:VCALENDAR