BEGIN:VCALENDAR
VERSION:2.0
PRODID:-//The Challenge Coach - ECPv6.15.20//NONSGML v1.0//EN
CALSCALE:GREGORIAN
METHOD:PUBLISH
X-WR-CALNAME:The Challenge Coach
X-ORIGINAL-URL:https://thechallengecoach.com/de
X-WR-CALDESC:Veranstaltungen für The Challenge Coach
REFRESH-INTERVAL;VALUE=DURATION:PT1H
X-Robots-Tag:noindex
X-PUBLISHED-TTL:PT1H
BEGIN:VTIMEZONE
TZID:America/New_York
BEGIN:DAYLIGHT
TZOFFSETFROM:-0500
TZOFFSETTO:-0400
TZNAME:EDT
DTSTART:20250309T070000
END:DAYLIGHT
BEGIN:STANDARD
TZOFFSETFROM:-0400
TZOFFSETTO:-0500
TZNAME:EST
DTSTART:20251102T060000
END:STANDARD
BEGIN:DAYLIGHT
TZOFFSETFROM:-0500
TZOFFSETTO:-0400
TZNAME:EDT
DTSTART:20260308T070000
END:DAYLIGHT
BEGIN:STANDARD
TZOFFSETFROM:-0400
TZOFFSETTO:-0500
TZNAME:EST
DTSTART:20261101T060000
END:STANDARD
BEGIN:DAYLIGHT
TZOFFSETFROM:-0500
TZOFFSETTO:-0400
TZNAME:EDT
DTSTART:20270314T070000
END:DAYLIGHT
BEGIN:STANDARD
TZOFFSETFROM:-0400
TZOFFSETTO:-0500
TZNAME:EST
DTSTART:20271107T060000
END:STANDARD
END:VTIMEZONE
BEGIN:VEVENT
DTSTART;TZID=America/New_York:20260427T120000
DTEND;TZID=America/New_York:20260427T133000
DTSTAMP:20260423T170032
CREATED:20260324T195041Z
LAST-MODIFIED:20260324T195313Z
UID:10000596-1777291200-1777296600@thechallengecoach.com
SUMMARY:COURAGE EN PRATIQUE: Coaching de groupe pour la vie réelle
DESCRIPTION:The same group is also offered to our French-speaking audiences:\nCe groupe de coaching est egalement propose pour notre audience francophone.\n\nCOURAGE EN PRATIQUE\nCoaching de groupe pour la vie réelle\nLundis du 13 avril au 8 juin 2026\nDe 12h à 13h30 EST\nLive sur Zoom\nEt si le courage n'était pas une qualité de naissance — mais plutôt une qualité qui se pratique ?\n\n\nIl y a des conversations qu'on reporte depuis des semaines. Des décisions qu'on tourne et retourne sans jamais trancher. Des limites qu'on voudrait poser mais qu'on n'arrive pas à formuler. \nCe n'est pas un manque de volonté. C'est un schéma. Et les schémas\, ça se travaille. \nOn croit souvent qu'on manque de courage. En réalité\, on manque surtout de pratique. Sous pression\, on revient à ce qu'on connaît : on hésite\, on reporte\, on compense. Pas par faiblesse — par habitude. Le courage\, ce n'est pas l'absence de peur. C'est ce qu'on choisit de faire malgré elle. \nPlaces limitées à 8 participants. Inscrivez-vous vite ! \nTarif de lancement : $599 (avant le 29 mars) - Plein tarif : $799\nTarif solidaire disponible (minimum $199)
URL:https://thechallengecoach.com/de/event/courage-in-practice-group-coaching-for-real-life-2/2026-04-27
LOCATION:Zoom Online
ATTACH;FMTTYPE=image/png:https://thechallengecoach.com/wp-content/uploads/2026/03/Courage-in-Practice-fr.png
END:VEVENT
BEGIN:VEVENT
DTSTART;TZID=America/New_York:20260430T120000
DTEND;TZID=America/New_York:20260430T133000
DTSTAMP:20260423T170032
CREATED:20260223T171951Z
LAST-MODIFIED:20260224T195611Z
UID:10000512-1777550400-1777555800@thechallengecoach.com
SUMMARY:Courage in Practice | Group Coaching for Real Life
DESCRIPTION:What if courage isn’t something you’re born with — but something you practice? Most of us don’t struggle because we lack insight. We struggle because we default. We repeat the same patterns in work\, relationships\, and decisions — even when we know better. \nAfter the depth and momentum of the Courage to Change coaching group\, one thing became clear: people don’t just want change — they want the capacity to live differently in everyday life. \nSo this spring\, I’m opening a new group: \nThis is an 8-week experiential coaching group where we will work on: \nThe patterns you default to under pressure\nThe beliefs you formed early that still guide your decisions\nHow you pursue belonging\, significance\, and contribution\nThe real-life choices you’ve been postponing\nMoving from discouragement toward courage\nYou will leave with: \nClearer self-understanding\nA revised internal blueprint\nConcrete shifts you can practice immediately\nGreater steadiness in the face of everyday challenges\nLimited to 8 participants.  \nPrice: $799\nEarly bird before March 19: $599\nMinimum due for class: $199\nWe offer a “PAY WHAT YOU CAN” sliding scale. Please reach out to info@TheChallengeCoach.com if you’d like to take advantage of this offer. No questions asked. We will send you a separate payment option. \nIf you’re ready to work on the life you’re actually living — this group is for you.
URL:https://thechallengecoach.com/de/event/courage-in-practice-group-coaching-for-real-life/2026-04-30
LOCATION:Zoom Online
ATTACH;FMTTYPE=image/png:https://thechallengecoach.com/wp-content/uploads/2026/02/Courage-in-Practice.png
END:VEVENT
BEGIN:VEVENT
DTSTART;TZID=America/New_York:20260504T120000
DTEND;TZID=America/New_York:20260504T133000
DTSTAMP:20260423T170032
CREATED:20260324T195041Z
LAST-MODIFIED:20260324T195313Z
UID:10000597-1777896000-1777901400@thechallengecoach.com
SUMMARY:COURAGE EN PRATIQUE: Coaching de groupe pour la vie réelle
DESCRIPTION:The same group is also offered to our French-speaking audiences:\nCe groupe de coaching est egalement propose pour notre audience francophone.\n\nCOURAGE EN PRATIQUE\nCoaching de groupe pour la vie réelle\nLundis du 13 avril au 8 juin 2026\nDe 12h à 13h30 EST\nLive sur Zoom\nEt si le courage n'était pas une qualité de naissance — mais plutôt une qualité qui se pratique ?\n\n\nIl y a des conversations qu'on reporte depuis des semaines. Des décisions qu'on tourne et retourne sans jamais trancher. Des limites qu'on voudrait poser mais qu'on n'arrive pas à formuler. \nCe n'est pas un manque de volonté. C'est un schéma. Et les schémas\, ça se travaille. \nOn croit souvent qu'on manque de courage. En réalité\, on manque surtout de pratique. Sous pression\, on revient à ce qu'on connaît : on hésite\, on reporte\, on compense. Pas par faiblesse — par habitude. Le courage\, ce n'est pas l'absence de peur. C'est ce qu'on choisit de faire malgré elle. \nPlaces limitées à 8 participants. Inscrivez-vous vite ! \nTarif de lancement : $599 (avant le 29 mars) - Plein tarif : $799\nTarif solidaire disponible (minimum $199)
URL:https://thechallengecoach.com/de/event/courage-in-practice-group-coaching-for-real-life-2/2026-05-04
LOCATION:Zoom Online
ATTACH;FMTTYPE=image/png:https://thechallengecoach.com/wp-content/uploads/2026/03/Courage-in-Practice-fr.png
END:VEVENT
BEGIN:VEVENT
DTSTART;TZID=America/New_York:20260507T120000
DTEND;TZID=America/New_York:20260507T133000
DTSTAMP:20260423T170032
CREATED:20260223T171951Z
LAST-MODIFIED:20260224T195611Z
UID:10000513-1778155200-1778160600@thechallengecoach.com
SUMMARY:Courage in Practice | Group Coaching for Real Life
DESCRIPTION:What if courage isn’t something you’re born with — but something you practice? Most of us don’t struggle because we lack insight. We struggle because we default. We repeat the same patterns in work\, relationships\, and decisions — even when we know better. \nAfter the depth and momentum of the Courage to Change coaching group\, one thing became clear: people don’t just want change — they want the capacity to live differently in everyday life. \nSo this spring\, I’m opening a new group: \nThis is an 8-week experiential coaching group where we will work on: \nThe patterns you default to under pressure\nThe beliefs you formed early that still guide your decisions\nHow you pursue belonging\, significance\, and contribution\nThe real-life choices you’ve been postponing\nMoving from discouragement toward courage\nYou will leave with: \nClearer self-understanding\nA revised internal blueprint\nConcrete shifts you can practice immediately\nGreater steadiness in the face of everyday challenges\nLimited to 8 participants.  \nPrice: $799\nEarly bird before March 19: $599\nMinimum due for class: $199\nWe offer a “PAY WHAT YOU CAN” sliding scale. Please reach out to info@TheChallengeCoach.com if you’d like to take advantage of this offer. No questions asked. We will send you a separate payment option. \nIf you’re ready to work on the life you’re actually living — this group is for you.
URL:https://thechallengecoach.com/de/event/courage-in-practice-group-coaching-for-real-life/2026-05-07
LOCATION:Zoom Online
ATTACH;FMTTYPE=image/png:https://thechallengecoach.com/wp-content/uploads/2026/02/Courage-in-Practice.png
END:VEVENT
BEGIN:VEVENT
DTSTART;TZID=America/New_York:20260511T120000
DTEND;TZID=America/New_York:20260511T133000
DTSTAMP:20260423T170032
CREATED:20260324T195041Z
LAST-MODIFIED:20260324T195313Z
UID:10000598-1778500800-1778506200@thechallengecoach.com
SUMMARY:COURAGE EN PRATIQUE: Coaching de groupe pour la vie réelle
DESCRIPTION:The same group is also offered to our French-speaking audiences:\nCe groupe de coaching est egalement propose pour notre audience francophone.\n\nCOURAGE EN PRATIQUE\nCoaching de groupe pour la vie réelle\nLundis du 13 avril au 8 juin 2026\nDe 12h à 13h30 EST\nLive sur Zoom\nEt si le courage n'était pas une qualité de naissance — mais plutôt une qualité qui se pratique ?\n\n\nIl y a des conversations qu'on reporte depuis des semaines. Des décisions qu'on tourne et retourne sans jamais trancher. Des limites qu'on voudrait poser mais qu'on n'arrive pas à formuler. \nCe n'est pas un manque de volonté. C'est un schéma. Et les schémas\, ça se travaille. \nOn croit souvent qu'on manque de courage. En réalité\, on manque surtout de pratique. Sous pression\, on revient à ce qu'on connaît : on hésite\, on reporte\, on compense. Pas par faiblesse — par habitude. Le courage\, ce n'est pas l'absence de peur. C'est ce qu'on choisit de faire malgré elle. \nPlaces limitées à 8 participants. Inscrivez-vous vite ! \nTarif de lancement : $599 (avant le 29 mars) - Plein tarif : $799\nTarif solidaire disponible (minimum $199)
URL:https://thechallengecoach.com/de/event/courage-in-practice-group-coaching-for-real-life-2/2026-05-11
LOCATION:Zoom Online
ATTACH;FMTTYPE=image/png:https://thechallengecoach.com/wp-content/uploads/2026/03/Courage-in-Practice-fr.png
END:VEVENT
BEGIN:VEVENT
DTSTART;TZID=America/New_York:20260514T120000
DTEND;TZID=America/New_York:20260514T133000
DTSTAMP:20260423T170032
CREATED:20260223T171951Z
LAST-MODIFIED:20260224T195611Z
UID:10000514-1778760000-1778765400@thechallengecoach.com
SUMMARY:Courage in Practice | Group Coaching for Real Life
DESCRIPTION:What if courage isn’t something you’re born with — but something you practice? Most of us don’t struggle because we lack insight. We struggle because we default. We repeat the same patterns in work\, relationships\, and decisions — even when we know better. \nAfter the depth and momentum of the Courage to Change coaching group\, one thing became clear: people don’t just want change — they want the capacity to live differently in everyday life. \nSo this spring\, I’m opening a new group: \nThis is an 8-week experiential coaching group where we will work on: \nThe patterns you default to under pressure\nThe beliefs you formed early that still guide your decisions\nHow you pursue belonging\, significance\, and contribution\nThe real-life choices you’ve been postponing\nMoving from discouragement toward courage\nYou will leave with: \nClearer self-understanding\nA revised internal blueprint\nConcrete shifts you can practice immediately\nGreater steadiness in the face of everyday challenges\nLimited to 8 participants.  \nPrice: $799\nEarly bird before March 19: $599\nMinimum due for class: $199\nWe offer a “PAY WHAT YOU CAN” sliding scale. Please reach out to info@TheChallengeCoach.com if you’d like to take advantage of this offer. No questions asked. We will send you a separate payment option. \nIf you’re ready to work on the life you’re actually living — this group is for you.
URL:https://thechallengecoach.com/de/event/courage-in-practice-group-coaching-for-real-life/2026-05-14
LOCATION:Zoom Online
ATTACH;FMTTYPE=image/png:https://thechallengecoach.com/wp-content/uploads/2026/02/Courage-in-Practice.png
END:VEVENT
BEGIN:VEVENT
DTSTART;TZID=America/New_York:20260518T120000
DTEND;TZID=America/New_York:20260518T133000
DTSTAMP:20260423T170032
CREATED:20260324T195041Z
LAST-MODIFIED:20260324T195313Z
UID:10000599-1779105600-1779111000@thechallengecoach.com
SUMMARY:COURAGE EN PRATIQUE: Coaching de groupe pour la vie réelle
DESCRIPTION:The same group is also offered to our French-speaking audiences:\nCe groupe de coaching est egalement propose pour notre audience francophone.\n\nCOURAGE EN PRATIQUE\nCoaching de groupe pour la vie réelle\nLundis du 13 avril au 8 juin 2026\nDe 12h à 13h30 EST\nLive sur Zoom\nEt si le courage n'était pas une qualité de naissance — mais plutôt une qualité qui se pratique ?\n\n\nIl y a des conversations qu'on reporte depuis des semaines. Des décisions qu'on tourne et retourne sans jamais trancher. Des limites qu'on voudrait poser mais qu'on n'arrive pas à formuler. \nCe n'est pas un manque de volonté. C'est un schéma. Et les schémas\, ça se travaille. \nOn croit souvent qu'on manque de courage. En réalité\, on manque surtout de pratique. Sous pression\, on revient à ce qu'on connaît : on hésite\, on reporte\, on compense. Pas par faiblesse — par habitude. Le courage\, ce n'est pas l'absence de peur. C'est ce qu'on choisit de faire malgré elle. \nPlaces limitées à 8 participants. Inscrivez-vous vite ! \nTarif de lancement : $599 (avant le 29 mars) - Plein tarif : $799\nTarif solidaire disponible (minimum $199)
URL:https://thechallengecoach.com/de/event/courage-in-practice-group-coaching-for-real-life-2/2026-05-18
LOCATION:Zoom Online
ATTACH;FMTTYPE=image/png:https://thechallengecoach.com/wp-content/uploads/2026/03/Courage-in-Practice-fr.png
END:VEVENT
BEGIN:VEVENT
DTSTART;TZID=America/New_York:20260521T120000
DTEND;TZID=America/New_York:20260521T133000
DTSTAMP:20260423T170032
CREATED:20260223T171951Z
LAST-MODIFIED:20260224T195611Z
UID:10000515-1779364800-1779370200@thechallengecoach.com
SUMMARY:Courage in Practice | Group Coaching for Real Life
DESCRIPTION:What if courage isn’t something you’re born with — but something you practice? Most of us don’t struggle because we lack insight. We struggle because we default. We repeat the same patterns in work\, relationships\, and decisions — even when we know better. \nAfter the depth and momentum of the Courage to Change coaching group\, one thing became clear: people don’t just want change — they want the capacity to live differently in everyday life. \nSo this spring\, I’m opening a new group: \nThis is an 8-week experiential coaching group where we will work on: \nThe patterns you default to under pressure\nThe beliefs you formed early that still guide your decisions\nHow you pursue belonging\, significance\, and contribution\nThe real-life choices you’ve been postponing\nMoving from discouragement toward courage\nYou will leave with: \nClearer self-understanding\nA revised internal blueprint\nConcrete shifts you can practice immediately\nGreater steadiness in the face of everyday challenges\nLimited to 8 participants.  \nPrice: $799\nEarly bird before March 19: $599\nMinimum due for class: $199\nWe offer a “PAY WHAT YOU CAN” sliding scale. Please reach out to info@TheChallengeCoach.com if you’d like to take advantage of this offer. No questions asked. We will send you a separate payment option. \nIf you’re ready to work on the life you’re actually living — this group is for you.
URL:https://thechallengecoach.com/de/event/courage-in-practice-group-coaching-for-real-life/2026-05-21
LOCATION:Zoom Online
ATTACH;FMTTYPE=image/png:https://thechallengecoach.com/wp-content/uploads/2026/02/Courage-in-Practice.png
END:VEVENT
BEGIN:VEVENT
DTSTART;TZID=America/New_York:20260525T120000
DTEND;TZID=America/New_York:20260525T133000
DTSTAMP:20260423T170032
CREATED:20260324T195041Z
LAST-MODIFIED:20260324T195313Z
UID:10000600-1779710400-1779715800@thechallengecoach.com
SUMMARY:COURAGE EN PRATIQUE: Coaching de groupe pour la vie réelle
DESCRIPTION:The same group is also offered to our French-speaking audiences:\nCe groupe de coaching est egalement propose pour notre audience francophone.\n\nCOURAGE EN PRATIQUE\nCoaching de groupe pour la vie réelle\nLundis du 13 avril au 8 juin 2026\nDe 12h à 13h30 EST\nLive sur Zoom\nEt si le courage n'était pas une qualité de naissance — mais plutôt une qualité qui se pratique ?\n\n\nIl y a des conversations qu'on reporte depuis des semaines. Des décisions qu'on tourne et retourne sans jamais trancher. Des limites qu'on voudrait poser mais qu'on n'arrive pas à formuler. \nCe n'est pas un manque de volonté. C'est un schéma. Et les schémas\, ça se travaille. \nOn croit souvent qu'on manque de courage. En réalité\, on manque surtout de pratique. Sous pression\, on revient à ce qu'on connaît : on hésite\, on reporte\, on compense. Pas par faiblesse — par habitude. Le courage\, ce n'est pas l'absence de peur. C'est ce qu'on choisit de faire malgré elle. \nPlaces limitées à 8 participants. Inscrivez-vous vite ! \nTarif de lancement : $599 (avant le 29 mars) - Plein tarif : $799\nTarif solidaire disponible (minimum $199)
URL:https://thechallengecoach.com/de/event/courage-in-practice-group-coaching-for-real-life-2/2026-05-25
LOCATION:Zoom Online
ATTACH;FMTTYPE=image/png:https://thechallengecoach.com/wp-content/uploads/2026/03/Courage-in-Practice-fr.png
END:VEVENT
BEGIN:VEVENT
DTSTART;TZID=America/New_York:20260601T120000
DTEND;TZID=America/New_York:20260601T133000
DTSTAMP:20260423T170032
CREATED:20260324T195041Z
LAST-MODIFIED:20260324T195313Z
UID:10000601-1780315200-1780320600@thechallengecoach.com
SUMMARY:COURAGE EN PRATIQUE: Coaching de groupe pour la vie réelle
DESCRIPTION:The same group is also offered to our French-speaking audiences:\nCe groupe de coaching est egalement propose pour notre audience francophone.\n\nCOURAGE EN PRATIQUE\nCoaching de groupe pour la vie réelle\nLundis du 13 avril au 8 juin 2026\nDe 12h à 13h30 EST\nLive sur Zoom\nEt si le courage n'était pas une qualité de naissance — mais plutôt une qualité qui se pratique ?\n\n\nIl y a des conversations qu'on reporte depuis des semaines. Des décisions qu'on tourne et retourne sans jamais trancher. Des limites qu'on voudrait poser mais qu'on n'arrive pas à formuler. \nCe n'est pas un manque de volonté. C'est un schéma. Et les schémas\, ça se travaille. \nOn croit souvent qu'on manque de courage. En réalité\, on manque surtout de pratique. Sous pression\, on revient à ce qu'on connaît : on hésite\, on reporte\, on compense. Pas par faiblesse — par habitude. Le courage\, ce n'est pas l'absence de peur. C'est ce qu'on choisit de faire malgré elle. \nPlaces limitées à 8 participants. Inscrivez-vous vite ! \nTarif de lancement : $599 (avant le 29 mars) - Plein tarif : $799\nTarif solidaire disponible (minimum $199)
URL:https://thechallengecoach.com/de/event/courage-in-practice-group-coaching-for-real-life-2/2026-06-01
LOCATION:Zoom Online
ATTACH;FMTTYPE=image/png:https://thechallengecoach.com/wp-content/uploads/2026/03/Courage-in-Practice-fr.png
END:VEVENT
BEGIN:VEVENT
DTSTART;TZID=America/New_York:20260608T120000
DTEND;TZID=America/New_York:20260608T133000
DTSTAMP:20260423T170032
CREATED:20260324T195041Z
LAST-MODIFIED:20260324T195313Z
UID:10000602-1780920000-1780925400@thechallengecoach.com
SUMMARY:COURAGE EN PRATIQUE: Coaching de groupe pour la vie réelle
DESCRIPTION:The same group is also offered to our French-speaking audiences:\nCe groupe de coaching est egalement propose pour notre audience francophone.\n\nCOURAGE EN PRATIQUE\nCoaching de groupe pour la vie réelle\nLundis du 13 avril au 8 juin 2026\nDe 12h à 13h30 EST\nLive sur Zoom\nEt si le courage n'était pas une qualité de naissance — mais plutôt une qualité qui se pratique ?\n\n\nIl y a des conversations qu'on reporte depuis des semaines. Des décisions qu'on tourne et retourne sans jamais trancher. Des limites qu'on voudrait poser mais qu'on n'arrive pas à formuler. \nCe n'est pas un manque de volonté. C'est un schéma. Et les schémas\, ça se travaille. \nOn croit souvent qu'on manque de courage. En réalité\, on manque surtout de pratique. Sous pression\, on revient à ce qu'on connaît : on hésite\, on reporte\, on compense. Pas par faiblesse — par habitude. Le courage\, ce n'est pas l'absence de peur. C'est ce qu'on choisit de faire malgré elle. \nPlaces limitées à 8 participants. Inscrivez-vous vite ! \nTarif de lancement : $599 (avant le 29 mars) - Plein tarif : $799\nTarif solidaire disponible (minimum $199)
URL:https://thechallengecoach.com/de/event/courage-in-practice-group-coaching-for-real-life-2/2026-06-08
LOCATION:Zoom Online
ATTACH;FMTTYPE=image/png:https://thechallengecoach.com/wp-content/uploads/2026/03/Courage-in-Practice-fr.png
END:VEVENT
END:VCALENDAR